Workbook
Name Regierungsbezirke: "Oberbayern,Niederbayern,Oberfranken,Mittelfranken,Unterfranken,Oberpfalz,Schwaben"

Sheet Anzeigen verkaufsoffener Nächte
A1: Anzeigen individueller verkaufsoffener Nächte an Werktagen
A2: Stand: | B2: 45940 | D2: bitte beachten: | E2: orange Felder = PFLICHTFELDER | F2: Stadt / Markt / Gemeinde: | J2: Regierungsbezirk: | L2: =IF(G2="","bitte Stadt / Markt / Gemeinde suchen",VLOOKUP(G2,Gemeindeverzeichnis!A2:D2188,2,FALSE)) -> bitte Stadt / Markt / Gemeinde suchen | M2: Landkreis / kreisfreie Stadt: | N2: =IF(G2="","bitte Stadt / Markt / Gemeinde suchen",VLOOKUP(G2,Gemeindeverzeichnis!A2:D2188,3,FALSE)) -> bitte Stadt / Markt / Gemeinde suchen | R2: Anschrift: | S2: =IF(G2="","bitte Stadt / Markt / Gemeinde suchen",VLOOKUP(G2,Gemeindeverzeichnis!A2:H2188,5,FALSE)&", "&VLOOKUP(G2,Gemeindeverzeichnis!A2:H2188,6,FALSE)&" - "&VLOOKUP(G2,Gemeindeverzeichnis!A2:H2188,7,FALSE)&" "&VLOOKUP(G2,Gemeindeverzeichnis!A2:H2188,8,FALSE)) -> bitte Stadt / Markt / Gemeinde suchen
D4: freiwillige Rückmeldung im Rahmen der Evaluation zum 1. August 2027, vgl. Arbeitsblatt "Erläuterungen" | G4: Jahr | H4: Einwohnerzahl gesamt: | J4: Verkaufsstellen gesamt: | L4: Anzahl gemeindeweite verkaufsoffene Nächte:
G5: 2025
G6: 2026
G7: 2027
A9: lfd. Nr. | D9: Angaben zum Unternehmen | L9: Angaben zur Verkaufsstelle | R9: Kontakt | V9: angezeigte verkaufsoffene Nacht | AE9: FREIFELDER
A10: # | B10: Hinw. | D10: Unternehmen | E10: betrieblicher Schwerpunkt | F10: sonstiger betrieblicher Schwerpunkt | G10: Straße | H10: Hausnummer | I10: PLZ | J10: Ort | L10: Name der Verkaufsstelle | M10: Straße | N10: Hausnummer | O10: PLZ | P10: Ort | R10: Ansprechpartner | S10: Telefonnummer | T10: E-Mail-Adresse | V10: Datum | W10: Uhrzeit von | X10: Uhrzeit bis | Z10: bisherige verkaufsoffene Nächte | AB10: Anzeigedatum | AC10: Form der Anzeige | AD10: 2 | AE10: *Freifeld | AF10: *Freifeld | AI10: Öffnungsdauer | AJ10: Werte 2025 | AK10: Werte 2026 | AL10: Werte 2027
A11: 1 | B11: =IF(Tabelle1[[#This Row],['#]]="","",IF(OR(ISBLANK(Tabelle1[[#This Row],[betrieblicher Schwerpunkt]]),ISBLANK(Tabelle1[[#This Row],[PLZ]]),ISBLANK(Tabelle1[[#This Row],[Name der Verkaufsstelle]]),ISBLANK(Tabelle1[[#This Row],[Straße ]]),ISBLANK(Tabelle1[[#This Row],[Hausnummer ]]),ISBLANK(Tabelle1[[#This Row],[PLZ ]]),ISBLANK(Tabelle1[[#This Row],[Datum]]),ISBLANK(Tabelle1[[#This Row],[Uhrzeit von]]),ISBLANK(Tabelle1[[#This Row],[Uhrzeit bis]]),ISBLANK(Tabelle1[[#This Row],[bisherige verkaufsoffene Nächte]]),ISBLANK(Tabelle1[[#This Row],[Anzeigedatum]]),ISBLANK(Tabelle1[[#This Row],[Form der Anzeige]])),0,1)) -> 0 | J11: =IF(I11="","",IFERROR(VLOOKUP(I11,Gemeindeverzeichnis!$P$2:$Q$2188,2,FALSE),"Ort bitte manuell eintragen")) | P11: =IF(O11="","",IFERROR(VLOOKUP(O11,Gemeindeverzeichnis!$P$2:$Q$2188,2,FALSE),"Ort bitte manuell eintragen")) | AH11: =YEAR(V11) -> 1900 | AI11: =IF(Tabelle1[[#This Row],[Uhrzeit von]]="","",Tabelle1[[#This Row],[Uhrzeit bis]]-Tabelle1[[#This Row],[Uhrzeit von]]) | AJ11: =COUNTIF($AH:$AH,"2025") -> 0 | AK11: =COUNTIF($AH:$AH,"2026") -> 0 | AL11: =COUNTIF($AH:$AH,"2027") -> 0
A12: =IF(Tabelle1[[#This Row],[Unternehmen]]="","",A11+1) | B12: =IF(Tabelle1[[#This Row],['#]]="","",IF(OR(ISBLANK(Tabelle1[[#This Row],[betrieblicher Schwerpunkt]]),ISBLANK(Tabelle1[[#This Row],[PLZ]]),ISBLANK(Tabelle1[[#This Row],[Name der Verkaufsstelle]]),ISBLANK(Tabelle1[[#This Row],[Straße ]]),ISBLANK(Tabelle1[[#This Row],[Hausnummer ]]),ISBLANK(Tabelle1[[#This Row],[PLZ ]]),ISBLANK(Tabelle1[[#This Row],[Datum]]),ISBLANK(Tabelle1[[#This Row],[Uhrzeit von]]),ISBLANK(Tabelle1[[#This Row],[Uhrzeit bis]]),ISBLANK(Tabelle1[[#This Row],[bisherige verkaufsoffene Nächte]]),ISBLANK(Tabelle1[[#This Row],[Anzeigedatum]]),ISBLANK(Tabelle1[[#This Row],[Form der Anzeige]])),0,1)) | J12: =IF(I12="","",IFERROR(VLOOKUP(I12,Gemeindeverzeichnis!$P$2:$Q$2188,2,FALSE),"Ort bitte manuell eintragen")) | P12: =IF(O12="","",IFERROR(VLOOKUP(O12,Gemeindeverzeichnis!$P$2:$Q$2188,2,FALSE),"Ort bitte manuell eintragen")) | AH12: =YEAR(V12) -> 1900 | AI12: =IF(Tabelle1[[#This Row],[Uhrzeit von]]="","",Tabelle1[[#This Row],[Uhrzeit bis]]-Tabelle1[[#This Row],[Uhrzeit von]])
A13: =IF(Tabelle1[[#This Row],[Unternehmen]]="","",A12+1) | B13: =IF(Tabelle1[[#This Row],['#]]="","",IF(OR(ISBLANK(Tabelle1[[#This Row],[betrieblicher Schwerpunkt]]),ISBLANK(Tabelle1[[#This Row],[PLZ]]),ISBLANK(Tabelle1[[#This Row],[Name der Verkaufsstelle]]),ISBLANK(Tabelle1[[#This Row],[Straße ]]),ISBLANK(Tabelle1[[#This Row],[Hausnummer ]]),ISBLANK(Tabelle1[[#This Row],[PLZ ]]),ISBLANK(Tabelle1[[#This Row],[Datum]]),ISBLANK(Tabelle1[[#This Row],[Uhrzeit von]]),ISBLANK(Tabelle1[[#This Row],[Uhrzeit bis]]),ISBLANK(Tabelle1[[#This Row],[bisherige verkaufsoffene Nächte]]),ISBLANK(Tabelle1[[#This Row],[Anzeigedatum]]),ISBLANK(Tabelle1[[#This Row],[Form der Anzeige]])),0,1)) | J13: =IF(I13="","",IFERROR(VLOOKUP(I13,Gemeindeverzeichnis!$P$2:$Q$2188,2,FALSE),"Ort bitte manuell eintragen")) | P13: =IF(O13="","",IFERROR(VLOOKUP(O13,Gemeindeverzeichnis!$P$2:$Q$2188,2,FALSE),"Ort bitte manuell eintragen")) | AH13: =YEAR(V13) -> 1900 | AI13: =IF(Tabelle1[[#This Row],[Uhrzeit von]]="","",Tabelle1[[#This Row],[Uhrzeit bis]]-Tabelle1[[#This Row],[Uhrzeit von]])
A14: =IF(Tabelle1[[#This Row],[Unternehmen]]="","",A13+1) | B14: =IF(Tabelle1[[#This Row],['#]]="","",IF(OR(ISBLANK(Tabelle1[[#This Row],[betrieblicher Schwerpunkt]]),ISBLANK(Tabelle1[[#This Row],[PLZ]]),ISBLANK(Tabelle1[[#This Row],[Name der Verkaufsstelle]]),ISBLANK(Tabelle1[[#This Row],[Straße ]]),ISBLANK(Tabelle1[[#This Row],[Hausnummer ]]),ISBLANK(Tabelle1[[#This Row],[PLZ ]]),ISBLANK(Tabelle1[[#This Row],[Datum]]),ISBLANK(Tabelle1[[#This Row],[Uhrzeit von]]),ISBLANK(Tabelle1[[#This Row],[Uhrzeit bis]]),ISBLANK(Tabelle1[[#This Row],[bisherige verkaufsoffene Nächte]]),ISBLANK(Tabelle1[[#This Row],[Anzeigedatum]]),ISBLANK(Tabelle1[[#This Row],[Form der Anzeige]])),0,1)) | J14: =IF(I14="","",IFERROR(VLOOKUP(I14,Gemeindeverzeichnis!$P$2:$Q$2188,2,FALSE),"Ort bitte manuell eintragen")) | P14: =IF(O14="","",IFERROR(VLOOKUP(O14,Gemeindeverzeichnis!$P$2:$Q$2188,2,FALSE),"Ort bitte manuell eintragen")) | AH14: =YEAR(V14) -> 1900 | AI14: =IF(Tabelle1[[#This Row],[Uhrzeit von]]="","",Tabelle1[[#This Row],[Uhrzeit bis]]-Tabelle1[[#This Row],[Uhrzeit von]])
A15: =IF(Tabelle1[[#This Row],[Unternehmen]]="","",A14+1) | B15: =IF(Tabelle1[[#This Row],['#]]="","",IF(OR(ISBLANK(Tabelle1[[#This Row],[betrieblicher Schwerpunkt]]),ISBLANK(Tabelle1[[#This Row],[PLZ]]),ISBLANK(Tabelle1[[#This Row],[Name der Verkaufsstelle]]),ISBLANK(Tabelle1[[#This Row],[Straße ]]),ISBLANK(Tabelle1[[#This Row],[Hausnummer ]]),ISBLANK(Tabelle1[[#This Row],[PLZ ]]),ISBLANK(Tabelle1[[#This Row],[Datum]]),ISBLANK(Tabelle1[[#This Row],[Uhrzeit von]]),ISBLANK(Tabelle1[[#This Row],[Uhrzeit bis]]),ISBLANK(Tabelle1[[#This Row],[bisherige verkaufsoffene Nächte]]),ISBLANK(Tabelle1[[#This Row],[Anzeigedatum]]),ISBLANK(Tabelle1[[#This Row],[Form der Anzeige]])),0,1)) | J15: =IF(I15="","",IFERROR(VLOOKUP(I15,Gemeindeverzeichnis!$P$2:$Q$2188,2,FALSE),"Ort bitte manuell eintragen")) | P15: =IF(O15="","",IFERROR(VLOOKUP(O15,Gemeindeverzeichnis!$P$2:$Q$2188,2,FALSE),"Ort bitte manuell eintragen")) | AH15: =YEAR(V15) -> 1900 | AI15: =IF(Tabelle1[[#This Row],[Uhrzeit von]]="","",Tabelle1[[#This Row],[Uhrzeit bis]]-Tabelle1[[#This Row],[Uhrzeit von]])
A16: =IF(Tabelle1[[#This Row],[Unternehmen]]="","",A15+1) | B16: =IF(Tabelle1[[#This Row],['#]]="","",IF(OR(ISBLANK(Tabelle1[[#This Row],[betrieblicher Schwerpunkt]]),ISBLANK(Tabelle1[[#This Row],[PLZ]]),ISBLANK(Tabelle1[[#This Row],[Name der Verkaufsstelle]]),ISBLANK(Tabelle1[[#This Row],[Straße ]]),ISBLANK(Tabelle1[[#This Row],[Hausnummer ]]),ISBLANK(Tabelle1[[#This Row],[PLZ ]]),ISBLANK(Tabelle1[[#This Row],[Datum]]),ISBLANK(Tabelle1[[#This Row],[Uhrzeit von]]),ISBLANK(Tabelle1[[#This Row],[Uhrzeit bis]]),ISBLANK(Tabelle1[[#This Row],[bisherige verkaufsoffene Nächte]]),ISBLANK(Tabelle1[[#This Row],[Anzeigedatum]]),ISBLANK(Tabelle1[[#This Row],[Form der Anzeige]])),0,1)) | J16: =IF(I16="","",IFERROR(VLOOKUP(I16,Gemeindeverzeichnis!$P$2:$Q$2188,2,FALSE),"Ort bitte manuell eintragen")) | P16: =IF(O16="","",IFERROR(VLOOKUP(O16,Gemeindeverzeichnis!$P$2:$Q$2188,2,FALSE),"Ort bitte manuell eintragen")) | AH16: =YEAR(V16) -> 1900 | AI16: =IF(Tabelle1[[#This Row],[Uhrzeit von]]="","",Tabelle1[[#This Row],[Uhrzeit bis]]-Tabelle1[[#This Row],[Uhrzeit von]])
A17: =IF(Tabelle1[[#This Row],[Unternehmen]]="","",A16+1) | B17: =IF(Tabelle1[[#This Row],['#]]="","",IF(OR(ISBLANK(Tabelle1[[#This Row],[betrieblicher Schwerpunkt]]),ISBLANK(Tabelle1[[#This Row],[PLZ]]),ISBLANK(Tabelle1[[#This Row],[Name der Verkaufsstelle]]),ISBLANK(Tabelle1[[#This Row],[Straße ]]),ISBLANK(Tabelle1[[#This Row],[Hausnummer ]]),ISBLANK(Tabelle1[[#This Row],[PLZ ]]),ISBLANK(Tabelle1[[#This Row],[Datum]]),ISBLANK(Tabelle1[[#This Row],[Uhrzeit von]]),ISBLANK(Tabelle1[[#This Row],[Uhrzeit bis]]),ISBLANK(Tabelle1[[#This Row],[bisherige verkaufsoffene Nächte]]),ISBLANK(Tabelle1[[#This Row],[Anzeigedatum]]),ISBLANK(Tabelle1[[#This Row],[Form der Anzeige]])),0,1)) | J17: =IF(I17="","",IFERROR(VLOOKUP(I17,Gemeindeverzeichnis!$P$2:$Q$2188,2,FALSE),"Ort bitte manuell eintragen")) | P17: =IF(O17="","",IFERROR(VLOOKUP(O17,Gemeindeverzeichnis!$P$2:$Q$2188,2,FALSE),"Ort bitte manuell eintragen")) | AH17: =YEAR(V17) -> 1900 | AI17: =IF(Tabelle1[[#This Row],[Uhrzeit von]]="","",Tabelle1[[#This Row],[Uhrzeit bis]]-Tabelle1[[#This Row],[Uhrzeit von]])
A18: =IF(Tabelle1[[#This Row],[Unternehmen]]="","",A17+1) | B18: =IF(Tabelle1[[#This Row],['#]]="","",IF(OR(ISBLANK(Tabelle1[[#This Row],[betrieblicher Schwerpunkt]]),ISBLANK(Tabelle1[[#This Row],[PLZ]]),ISBLANK(Tabelle1[[#This Row],[Name der Verkaufsstelle]]),ISBLANK(Tabelle1[[#This Row],[Straße ]]),ISBLANK(Tabelle1[[#This Row],[Hausnummer ]]),ISBLANK(Tabelle1[[#This Row],[PLZ ]]),ISBLANK(Tabelle1[[#This Row],[Datum]]),ISBLANK(Tabelle1[[#This Row],[Uhrzeit von]]),ISBLANK(Tabelle1[[#This Row],[Uhrzeit bis]]),ISBLANK(Tabelle1[[#This Row],[bisherige verkaufsoffene Nächte]]),ISBLANK(Tabelle1[[#This Row],[Anzeigedatum]]),ISBLANK(Tabelle1[[#This Row],[Form der Anzeige]])),0,1)) | J18: =IF(I18="","",IFERROR(VLOOKUP(I18,Gemeindeverzeichnis!$P$2:$Q$2188,2,FALSE),"Ort bitte manuell eintragen")) | P18: =IF(O18="","",IFERROR(VLOOKUP(O18,Gemeindeverzeichnis!$P$2:$Q$2188,2,FALSE),"Ort bitte manuell eintragen")) | AH18: =YEAR(V18) -> 1900 | AI18: =IF(Tabelle1[[#This Row],[Uhrzeit von]]="","",Tabelle1[[#This Row],[Uhrzeit bis]]-Tabelle1[[#This Row],[Uhrzeit von]])
A19: =IF(Tabelle1[[#This Row],[Unternehmen]]="","",A18+1) | B19: =IF(Tabelle1[[#This Row],['#]]="","",IF(OR(ISBLANK(Tabelle1[[#This Row],[betrieblicher Schwerpunkt]]),ISBLANK(Tabelle1[[#This Row],[PLZ]]),ISBLANK(Tabelle1[[#This Row],[Name der Verkaufsstelle]]),ISBLANK(Tabelle1[[#This Row],[Straße ]]),ISBLANK(Tabelle1[[#This Row],[Hausnummer ]]),ISBLANK(Tabelle1[[#This Row],[PLZ ]]),ISBLANK(Tabelle1[[#This Row],[Datum]]),ISBLANK(Tabelle1[[#This Row],[Uhrzeit von]]),ISBLANK(Tabelle1[[#This Row],[Uhrzeit bis]]),ISBLANK(Tabelle1[[#This Row],[bisherige verkaufsoffene Nächte]]),ISBLANK(Tabelle1[[#This Row],[Anzeigedatum]]),ISBLANK(Tabelle1[[#This Row],[Form der Anzeige]])),0,1)) | J19: =IF(I19="","",IFERROR(VLOOKUP(I19,Gemeindeverzeichnis!$P$2:$Q$2188,2,FALSE),"Ort bitte manuell eintragen")) | P19: =IF(O19="","",IFERROR(VLOOKUP(O19,Gemeindeverzeichnis!$P$2:$Q$2188,2,FALSE),"Ort bitte manuell eintragen")) | AH19: =YEAR(V19) -> 1900 | AI19: =IF(Tabelle1[[#This Row],[Uhrzeit von]]="","",Tabelle1[[#This Row],[Uhrzeit bis]]-Tabelle1[[#This Row],[Uhrzeit von]])
A20: =IF(Tabelle1[[#This Row],[Unternehmen]]="","",A19+1) | B20: =IF(Tabelle1[[#This Row],['#]]="","",IF(OR(ISBLANK(Tabelle1[[#This Row],[betrieblicher Schwerpunkt]]),ISBLANK(Tabelle1[[#This Row],[PLZ]]),ISBLANK(Tabelle1[[#This Row],[Name der Verkaufsstelle]]),ISBLANK(Tabelle1[[#This Row],[Straße ]]),ISBLANK(Tabelle1[[#This Row],[Hausnummer ]]),ISBLANK(Tabelle1[[#This Row],[PLZ ]]),ISBLANK(Tabelle1[[#This Row],[Datum]]),ISBLANK(Tabelle1[[#This Row],[Uhrzeit von]]),ISBLANK(Tabelle1[[#This Row],[Uhrzeit bis]]),ISBLANK(Tabelle1[[#This Row],[bisherige verkaufsoffene Nächte]]),ISBLANK(Tabelle1[[#This Row],[Anzeigedatum]]),ISBLANK(Tabelle1[[#This Row],[Form der Anzeige]])),0,1)) | J20: =IF(I20="","",IFERROR(VLOOKUP(I20,Gemeindeverzeichnis!$P$2:$Q$2188,2,FALSE),"Ort bitte manuell eintragen")) | P20: =IF(O20="","",IFERROR(VLOOKUP(O20,Gemeindeverzeichnis!$P$2:$Q$2188,2,FALSE),"Ort bitte manuell eintragen")) | AH20: =YEAR(V20) -> 1900 | AI20: =IF(Tabelle1[[#This Row],[Uhrzeit von]]="","",Tabelle1[[#This Row],[Uhrzeit bis]]-Tabelle1[[#This Row],[Uhrzeit von]])
A21: =IF(Tabelle1[[#This Row],[Unternehmen]]="","",A20+1) | B21: =IF(Tabelle1[[#This Row],['#]]="","",IF(OR(ISBLANK(Tabelle1[[#This Row],[betrieblicher Schwerpunkt]]),ISBLANK(Tabelle1[[#This Row],[PLZ]]),ISBLANK(Tabelle1[[#This Row],[Name der Verkaufsstelle]]),ISBLANK(Tabelle1[[#This Row],[Straße ]]),ISBLANK(Tabelle1[[#This Row],[Hausnummer ]]),ISBLANK(Tabelle1[[#This Row],[PLZ ]]),ISBLANK(Tabelle1[[#This Row],[Datum]]),ISBLANK(Tabelle1[[#This Row],[Uhrzeit von]]),ISBLANK(Tabelle1[[#This Row],[Uhrzeit bis]]),ISBLANK(Tabelle1[[#This Row],[bisherige verkaufsoffene Nächte]]),ISBLANK(Tabelle1[[#This Row],[Anzeigedatum]]),ISBLANK(Tabelle1[[#This Row],[Form der Anzeige]])),0,1)) | J21: =IF(I21="","",IFERROR(VLOOKUP(I21,Gemeindeverzeichnis!$P$2:$Q$2188,2,FALSE),"Ort bitte manuell eintragen")) | P21: =IF(O21="","",IFERROR(VLOOKUP(O21,Gemeindeverzeichnis!$P$2:$Q$2188,2,FALSE),"Ort bitte manuell eintragen")) | AH21: =YEAR(V21) -> 1900 | AI21: =IF(Tabelle1[[#This Row],[Uhrzeit von]]="","",Tabelle1[[#This Row],[Uhrzeit bis]]-Tabelle1[[#This Row],[Uhrzeit von]])
A22: =IF(Tabelle1[[#This Row],[Unternehmen]]="","",A21+1) | B22: =IF(Tabelle1[[#This Row],['#]]="","",IF(OR(ISBLANK(Tabelle1[[#This Row],[betrieblicher Schwerpunkt]]),ISBLANK(Tabelle1[[#This Row],[PLZ]]),ISBLANK(Tabelle1[[#This Row],[Name der Verkaufsstelle]]),ISBLANK(Tabelle1[[#This Row],[Straße ]]),ISBLANK(Tabelle1[[#This Row],[Hausnummer ]]),ISBLANK(Tabelle1[[#This Row],[PLZ ]]),ISBLANK(Tabelle1[[#This Row],[Datum]]),ISBLANK(Tabelle1[[#This Row],[Uhrzeit von]]),ISBLANK(Tabelle1[[#This Row],[Uhrzeit bis]]),ISBLANK(Tabelle1[[#This Row],[bisherige verkaufsoffene Nächte]]),ISBLANK(Tabelle1[[#This Row],[Anzeigedatum]]),ISBLANK(Tabelle1[[#This Row],[Form der Anzeige]])),0,1)) | J22: =IF(I22="","",IFERROR(VLOOKUP(I22,Gemeindeverzeichnis!$P$2:$Q$2188,2,FALSE),"Ort bitte manuell eintragen")) | P22: =IF(O22="","",IFERROR(VLOOKUP(O22,Gemeindeverzeichnis!$P$2:$Q$2188,2,FALSE),"Ort bitte manuell eintragen")) | AH22: =YEAR(V22) -> 1900 | AI22: =IF(Tabelle1[[#This Row],[Uhrzeit von]]="","",Tabelle1[[#This Row],[Uhrzeit bis]]-Tabelle1[[#This Row],[Uhrzeit von]])
A23: =IF(Tabelle1[[#This Row],[Unternehmen]]="","",A22+1) | B23: =IF(Tabelle1[[#This Row],['#]]="","",IF(OR(ISBLANK(Tabelle1[[#This Row],[betrieblicher Schwerpunkt]]),ISBLANK(Tabelle1[[#This Row],[PLZ]]),ISBLANK(Tabelle1[[#This Row],[Name der Verkaufsstelle]]),ISBLANK(Tabelle1[[#This Row],[Straße ]]),ISBLANK(Tabelle1[[#This Row],[Hausnummer ]]),ISBLANK(Tabelle1[[#This Row],[PLZ ]]),ISBLANK(Tabelle1[[#This Row],[Datum]]),ISBLANK(Tabelle1[[#This Row],[Uhrzeit von]]),ISBLANK(Tabelle1[[#This Row],[Uhrzeit bis]]),ISBLANK(Tabelle1[[#This Row],[bisherige verkaufsoffene Nächte]]),ISBLANK(Tabelle1[[#This Row],[Anzeigedatum]]),ISBLANK(Tabelle1[[#This Row],[Form der Anzeige]])),0,1)) | J23: =IF(I23="","",IFERROR(VLOOKUP(I23,Gemeindeverzeichnis!$P$2:$Q$2188,2,FALSE),"Ort bitte manuell eintragen")) | P23: =IF(O23="","",IFERROR(VLOOKUP(O23,Gemeindeverzeichnis!$P$2:$Q$2188,2,FALSE),"Ort bitte manuell eintragen")) | AH23: =YEAR(V23) -> 1900 | AI23: =IF(Tabelle1[[#This Row],[Uhrzeit von]]="","",Tabelle1[[#This Row],[Uhrzeit bis]]-Tabelle1[[#This Row],[Uhrzeit von]])
... A1010: =IF(Tabelle1[[#This Row],[Unternehmen]]="","",A1009+1) | B1010: =IF(Tabelle1[[#This Row],['#]]="","",IF(OR(ISBLANK(Tabelle1[[#This Row],[betrieblicher Schwerpunkt]]),ISBLANK(Tabelle1[[#This Row],[PLZ]]),ISBLANK(Tabelle1[[#This Row],[Name der Verkaufsstelle]]),ISBLANK(Tabelle1[[#This Row],[Straße ]]),ISBLANK(Tabelle1[[#This Row],[Hausnummer ]]),ISBLANK(Tabelle1[[#This Row],[PLZ ]]),ISBLANK(Tabelle1[[#This Row],[Datum]]),ISBLANK(Tabelle1[[#This Row],[Uhrzeit von]]),ISBLANK(Tabelle1[[#This Row],[Uhrzeit bis]]),ISBLANK(Tabelle1[[#This Row],[bisherige verkaufsoffene Nächte]]),ISBLANK(Tabelle1[[#This Row],[Anzeigedatum]]),ISBLANK(Tabelle1[[#This Row],[Form der Anzeige]])),0,1)) | J1010: =IF(I1010="","",IFERROR(VLOOKUP(I1010,Gemeindeverzeichnis!$P$2:$Q$2188,2,FALSE),"Ort bitte manuell eintragen")) | P1010: =IF(O1010="","",IFERROR(VLOOKUP(O1010,Gemeindeverzeichnis!$P$2:$Q$2188,2,FALSE),"Ort bitte manuell eintragen")) | AH1010: =YEAR(V1010) -> 1900 | AI1010: =IF(Tabelle1[[#This Row],[Uhrzeit von]]="","",Tabelle1[[#This Row],[Uhrzeit bis]]-Tabelle1[[#This Row],[Uhrzeit von]])

Sheet Auswahlfelder
B1: Betrieblicher Schwerpunkt | C1: Uhrzeit von | D1: Uhrzeit bis | E1: bisherige verkaufsoffene Nächte | F1: Form der Anzeige
B2: Nahrungs- und Genussmittel | C2: 0.83333333 | D2: 0.85416667 | E2: 0 | F2: BayernPortal
B3: Bekleidung, Schuhe, Accessoires | C3: 0.85416667 | D3: 0.875 | E3: 1 | F3: eigenes Formular
B4: Schmuck, Uhren | C4: 0.875 | D4: 0.89583333 | E4: 2 | F4: per Schreiben
B5: Kosmetik-, Drogerie- und Pflegeartikel | C5: 0.89583333 | D5: 0.91666667 | E5: 3 | F5: per E-Mail
B6: Freizeit- und Sportartikel, Spielwaren | C6: 0.91666667 | D6: 0.9375 | F6: telefonisch / mündlich
B7: Bücher, Presseerzeugnisse, Medien, Schreibwaren | C7: 0.9375 | D7: 0.95833333
B8: Technik-, Elektro- und Telekommunikationsartikel | C8: 0.95833333 | D8: 0.97916667
B9: Bau-, Garten und Handwerksartikel, Blumen, Haustierbedarf | C9: 0.97916667 | D9: 1
B10: Möbel, Einrichtungs-, Deko- und Geschenkartikel
B11: Fahrzeuge
B12: => sonstiger betrieblicher Schwerpunkt

Sheet Erläuterungen
A1: Erläuterungen:
A3: Individuelle verkaufsoffene Nächte an Werktagen
A4: Inhaberinnen und Inhaber einer Verkaufsstelle können nach Art. 7 Abs. 3 BayLadSchlG (zusätzlich zu den bis zu acht gemeindeweiten verkaufsoffenen Nächten an Werktagen, Art. 7 Abs. 1 BayLadSchlG) pro Kalenderjahr bis zu vier individuelle verkaufsoffene Nächte an Werktagen von 20:00 Uhr bis höchstens 24:00 Uhr durchführen.
A5: Die hierfür nach Art. 7 Abs. 3 S. 2 BayLadSchlG notwendige Anzeige muss spätestens zwei Wochen vor der geplanten Öffnung der Verkaufsstelle bei der zuständigen Gemeinde erfolgen. Örtlich zuständig ist die Gemeinde, in der sich die jeweilige Verkaufsstelle befindet, Art. 3 Abs. 1 BayVwVfG. Für die Anzeige der individuellen verkaufsoffenen Nächte an Werktagen gibt es bis auf die Frist von zwei Wochen (zu berechnen als Rückwärtsfrist) und die Anzeige bei der zuständigen Gemeinde keine formellen Wirksamkeitsvoraussetzungen, insbesondere kein Formerfordernis.
A6: Individuelle verkaufsoffene Nächte können nur an Werktagen (Montag bis Samstag, keine Sonn- und Feiertage) und an diesen Tagen nur von 20.00 bis höchstens 24.00 Uhr durchgeführt werden. An den in Art. 7 Abs. 2 S. 1 BayLadSchlG genannten Tagen ist die Durchführung einer individuellen verkaufsoffenen Nacht ausgeschlossen: Aschermittwoch, Gründonnerstag, Karsamstag, Buß- und Bettag, Heiligabend und Silvester sowie der jeweilige Tag vor Pfingstsonntag, Allerheiligen, Volkstrauertag und Totensonntag.
A8: Evaluation
A9: Für die Gemeinden:
A10: Nach Art. 12 Abs. 5 BayLadSchlG ist nach Ablauf des 1. August 2027 eine Evaluation zu den Auswirkungen der individuellen Verkaufsoffenen Nächte an Werktagen nach Art. 7 Abs. 3 BayLadSchlG durchzuführen. Dazu sind die von den Gemeinden gesammelten Anzeigen der einzelnen Verkaufsstellen erforderlich. Die Anzeigedaten sind von jeder einzelnen Gemeinde in dieser Excel-Datei im Arbeitsblatt "Anzeigen verkaufsoffener Nächte" einzutragen (pro Gemeinde ist eine separate Datei zu führen).
A11: Im Arbeitsblatt "Anzeigen verkaufsoffener Nächte" füllen die Gemeinden die Zellen H5 bis L7 (orange markierte Pflichtfelder) mit den jeweiligen Einwohnerzahlen in der Gemeinde (Zellen H5 bis H7), der Anzahlen der Verkaufsstellen im Gemeindegebiet (Zellen I5 bis I7) und der Anzahl der durchgeführten gemeindeweiten verkaufsoffenen Nächte an Werktagen nach Art. 7 Abs. 1 BayLadSchlG (Zellen L5 bis L7) jeweils für den Zeitraum 01.08.2025 bis 31.12.2025 (= 2025), 01.01.2026 bis 31.12.2026 (= 2026) und 01.01.2027 bis 31.07.2027 (= 2027) aus. Stichtag ist der 31.12.2025, 31.12.2026 und 31.07.2027 (hinsichtlich Einwohnerzahl und Anzahl Verkaufsstellen 30.06.2027). Freiwillig können im Arbeitsblatt "Anzeigen verkaufsoffener Nächte" im Freitextfeld in der Zelle D5 Erfahrungswerte und sonstige Rückmeldungen zu den individuellen und gemeindeweiten verkaufsoffenen Nächten an Werktagen mitgeteilt werden, die ggf. in der Evaluation zu berücksichtigen wären.
A12: Die Daten der einzelnen Anzeigen der individuellen verkaufsoffenen Nächte werden in dieser Excel-Datei im Arbeitsblatt "Auswertung" automatisch in einer einzelnen Zeile (Zeile 5) für jede Gemeinde ausgewertet. Die weiteren Angaben der Gemeinde aus dem Arbeitsblatt "Anzeigen verkaufsoffenser Nächte" werden hier ebenfalls übertragen.
A13: Ab dem August 2027 beginnt die Evaluation. Die Gemeinden senden dazu den Inhalt der gesamten Zeile 5 im Arbeitsblatt "Auswertung" auf Anforderung an ihr jeweiliges Landratsamt bzw. im Fall von kreisfreien Städten an die jeweilige Regierung. Anleitung: Dazu muss im Arbeitsblatt "Auswertung" die gesamte Zeile 5 durch Klick auf die Zeilennummer (am linken Fensterrand) markiert, mittels "Strg + C" kopiert und in eine neue Excel-Datei mit Rechtsklick -> Einfügeoptionen -> Werte (keine Übernahme der Formeln, sondern der Zellenwerte) eingefügt werden. Diese neue Excel-Datei ist sodann der Kreisverwaltungsbehörde bzw. Regierung zuzuleiten.
A15: Für die Landratsämter:
... A21: Das StMAS wird im Juni/Juli 2027 den Regierungen, Landratsämtern und Gemeinden den genauen Zeitplan für die Abfrage der Daten mitteilen.

Sheet Auswertung
D1: Einwohnerzahl gesamt | G1: Verkaufsstellen gesamt | J1: Anzahl gemeindeweite verkaufsoffene Nächte | M1: Anzahl individuelle verkaufsoffene Nächte | Q1: an individuellen verkaufsoffenen Nächten beteiligte Verkaufsstellen | AC1: Verteilung betriebliche Schwerpunkte | BG1: Verteilung Uhrzeiten (Ladenöffnung) | CE1: Verteilung Uhrzeiten (Ladenschluss) | DC1: Verteilung Uhrzeiten (Ø-Öffnungsdauer) | DF1: Verteilung Anzeigekanäle
A2: Gemeinde | B2: Landkreis | C2: Regierungsbezirk | Q2: mit mindestens einer Öffnung | T2: mit mindestens zwei Öffnungen | W2: mit mindestens drei Öffnungen | Z2: mit vier Öffnungen | AC2: =Auswahlfelder!B2 -> Nahrungs- und Genussmittel | AF2: =Auswahlfelder!B3 -> Bekleidung, Schuhe, Accessoires | AI2: =Auswahlfelder!B4 -> Schmuck, Uhren | AL2: =Auswahlfelder!B5 -> Kosmetik-, Drogerie- und Pflegeartikel | AO2: =Auswahlfelder!B6 -> Freizeit- und Sportartikel, Spielwaren | AR2: =Auswahlfelder!B7 -> Bücher, Presseerzeugnisse, Medien, Schreibwaren | AU2: =Auswahlfelder!B8 -> Technik-, Elektro- und Telekommunikationsartikel | AX2: =Auswahlfelder!B9 -> Bau-, Garten und Handwerksartikel, Blumen, Haustierbedarf | BA2: =Auswahlfelder!B11 -> Fahrzeuge | BD2: =Auswahlfelder!B12 -> => sonstiger betrieblicher Schwerpunkt | BG2: Ladenöffnung: 20:00 Uhr | BJ2: Ladenöffnung: 20:30 Uhr | BM2: Ladenöffnung: 21:00 Uhr | BP2: Ladenöffnung: 21:30 Uhr | BS2: Ladenöffnung: 22:00 Uhr | BV2: Ladenöffnung: 22:30 Uhr | BY2: Ladenöffnung: 23:00 Uhr | CB2: Ladenöffnung: 23:30 Uhr | CE2: Ladenschluss: 20:30 Uhr | CH2: Ladenschluss: 21:00 Uhr | CK2: Ladenschluss: 21:30 Uhr | CN2: Ladenschluss: 22:00 Uhr | CQ2: Ladenschluss: 22:30 Uhr | CT2: Ladenschluss: 23:00 Uhr | CW2: Ladenschluss: 23:30 Uhr | CZ2: Ladenschluss: 24:00 Uhr | DF2: =Auswahlfelder!F2 -> BayernPortal | DI2: =Auswahlfelder!F3 -> eigenes Formular | DL2: =Auswahlfelder!F4 -> per Schreiben | DO2: =Auswahlfelder!F5 -> per E-Mail | DR2: =Auswahlfelder!F6 -> telefonisch / mündlich | DU2: freiwillige Rückmeldung im Rahmen der Evaluation zum 1. August 2027, vgl. Arbeitsblatt "Erläuterungen"
D3: 2025 | E3: 2026 | F3: 2027 | G3: 2025 | H3: 2026 | I3: 2027 | J3: 2025 | K3: 2026 | L3: 2027 | M3: gesamt | N3: 2025 | O3: 2026 | P3: 2027 | Q3: 2025 | R3: 2026 | S3: 2027 | T3: 2025 | U3: 2026 | V3: 2027 | W3: 2025 | X3: 2026 | Y3: 2027 | Z3: 2025 | AA3: 2026 | AB3: 2027 | AC3: 2025 | AD3: 2026 | AE3: 2027 | AF3: 2025 | AG3: 2026 | AH3: 2027 | AI3: 2025 | AJ3: 2026 | AK3: 2027 | AL3: 2025 | AM3: 2026 | AN3: 2027 | AO3: 2025 | AP3: 2026 | AQ3: 2027 | AR3: 2025 | AS3: 2026 | AT3: 2027 | AU3: 2025 | AV3: 2026 | AW3: 2027 | AX3: 2025 | AY3: 2026 | AZ3: 2027 | BA3: 2025 | BB3: 2026 | BC3: 2027 | BD3: 2025 | BE3: 2026 | BF3: 2027 | BG3: 2025 | BH3: 2026 | BI3: 2027 | BJ3: 2025 | BK3: 2026 | BL3: 2027 | BM3: 2025 | BN3: 2026 | BO3: 2027 | BP3: 2025 | BQ3: 2026 | BR3: 2027 | BS3: 2025 | BT3: 2026 | BU3: 2027 | BV3: 2025 | BW3: 2026 | BX3: 2027 | BY3: 2025 | BZ3: 2026 | CA3: 2027 | CB3: 2025 | CC3: 2026 | CD3: 2027 | CE3: 2025 | CF3: 2026 | CG3: 2027 | CH3: 2025 | CI3: 2026 | CJ3: 2027 | CK3: 2025 | CL3: 2026 | CM3: 2027 | CN3: 2025 | CO3: 2026 | CP3: 2027 | CQ3: 2025 | CR3: 2026 | CS3: 2027 | CT3: 2025 | CU3: 2026 | CV3: 2027 | CW3: 2025 | CX3: 2026 | CY3: 2027 | CZ3: 2025 | DA3: 2026 | DB3: 2027 | DC3: 2025 | DD3: 2026 | DE3: 2027 | DF3: 2025 | DG3: 2026 | DH3: 2027 | DI3: 2025 | DJ3: 2026 | DK3: 2027 | DL3: 2025 | DM3: 2026 | DN3: 2027 | DO3: 2025 | DP3: 2026 | DQ3: 2027 | DR3: 2025 | DS3: 2026 | DT3: 2027
A5: ='Anzeigen verkaufsoffener Nächte'!G2 -> 0 | B5: ='Anzeigen verkaufsoffener Nächte'!N2 -> bitte Stadt / Markt / Gemeinde suchen | C5: ='Anzeigen verkaufsoffener Nächte'!L2 -> bitte Stadt / Markt / Gemeinde suchen | D5: ='Anzeigen verkaufsoffener Nächte'!$H$5 -> 0 | E5: ='Anzeigen verkaufsoffener Nächte'!$H$6 -> 0 | F5: ='Anzeigen verkaufsoffener Nächte'!$H$7 -> 0 | G5: ='Anzeigen verkaufsoffener Nächte'!$J$5 -> 0 | H5: ='Anzeigen verkaufsoffener Nächte'!$J$6 -> 0 | I5: ='Anzeigen verkaufsoffener Nächte'!$J$7 -> 0 | J5: ='Anzeigen verkaufsoffener Nächte'!$L$5 -> 0 | K5: ='Anzeigen verkaufsoffener Nächte'!$L$6 -> 0 | L5: ='Anzeigen verkaufsoffener Nächte'!$L$7 -> 0 | M5: =N5+O5+P5 -> 0 | N5: =COUNTIF('Anzeigen verkaufsoffener Nächte'!$AH:$AH,"2025") -> 0 | O5: =COUNTIF('Anzeigen verkaufsoffener Nächte'!$AH:$AH,"2026") -> 0 | P5: =COUNTIF('Anzeigen verkaufsoffener Nächte'!$AH:$AH,"2027") -> 0 | Q5: =COUNTIFS('Anzeigen verkaufsoffener Nächte'!$Z:$Z,0,'Anzeigen verkaufsoffener Nächte'!$AH:$AH,2025) -> 0 | R5: =COUNTIFS('Anzeigen verkaufsoffener Nächte'!$Z:$Z,0,'Anzeigen verkaufsoffener Nächte'!$AH:$AH,2026) -> 0 | S5: =COUNTIFS('Anzeigen verkaufsoffener Nächte'!$Z:$Z,0,'Anzeigen verkaufsoffener Nächte'!$AH:$AH,2027) -> 0 | T5: =COUNTIFS('Anzeigen verkaufsoffener Nächte'!$Z:$Z,1,'Anzeigen verkaufsoffener Nächte'!$AH:$AH,2025) -> 0 | U5: =COUNTIFS('Anzeigen verkaufsoffener Nächte'!$Z:$Z,1,'Anzeigen verkaufsoffener Nächte'!$AH:$AH,2026) -> 0 | V5: =COUNTIFS('Anzeigen verkaufsoffener Nächte'!$Z:$Z,1,'Anzeigen verkaufsoffener Nächte'!$AH:$AH,2027) -> 0 | W5: =COUNTIFS('Anzeigen verkaufsoffener Nächte'!$Z:$Z,2,'Anzeigen verkaufsoffener Nächte'!$AH:$AH,2025) -> 0 | X5: =COUNTIFS('Anzeigen verkaufsoffener Nächte'!$Z:$Z,2,'Anzeigen verkaufsoffener Nächte'!$AH:$AH,2026) -> 0 | Y5: =COUNTIFS('Anzeigen verkaufsoffener Nächte'!$Z:$Z,2,'Anzeigen verkaufsoffener Nächte'!$AH:$AH,2027) -> 0 | Z5: =COUNTIFS('Anzeigen verkaufsoffener Nächte'!$Z:$Z,3,'Anzeigen verkaufsoffener Nächte'!$AH:$AH,2025) -> 0 | AA5: =COUNTIFS('Anzeigen verkaufsoffener Nächte'!$Z:$Z,3,'Anzeigen verkaufsoffener Nächte'!$AH:$AH,2026) -> 0 | AB5: =COUNTIFS('Anzeigen verkaufsoffener Nächte'!$Z:$Z,3,'Anzeigen verkaufsoffener Nächte'!$AH:$AH,2027) -> 0 | AC5: =COUNTIFS('Anzeigen verkaufsoffener Nächte'!$E:$E,AC2,'Anzeigen verkaufsoffener Nächte'!$AH:$AH,2025) -> 0 | AD5: =COUNTIFS('Anzeigen verkaufsoffener Nächte'!$E:$E,AC2,'Anzeigen verkaufsoffener Nächte'!$AH:$AH,2026) -> 0 | AE5: =COUNTIFS('Anzeigen verkaufsoffener Nächte'!$E:$E,AC2,'Anzeigen verkaufsoffener Nächte'!$AH:$AH,2027) -> 0 | AF5: =COUNTIFS('Anzeigen verkaufsoffener Nächte'!$E:$E,AF2,'Anzeigen verkaufsoffener Nächte'!$AH:$AH,2025) -> 0 | AG5: =COUNTIFS('Anzeigen verkaufsoffener Nächte'!$E:$E,AF2,'Anzeigen verkaufsoffener Nächte'!$AH:$AH,2026) -> 0 | AH5: =COUNTIFS('Anzeigen verkaufsoffener Nächte'!$E:$E,AF2,'Anzeigen verkaufsoffener Nächte'!$AH:$AH,2027) -> 0 | AI5: =COUNTIFS('Anzeigen verkaufsoffener Nächte'!$E:$E,AI2,'Anzeigen verkaufsoffener Nächte'!$AH:$AH,2025) -> 0 | AJ5: =COUNTIFS('Anzeigen verkaufsoffener Nächte'!$E:$E,AI2,'Anzeigen verkaufsoffener Nächte'!$AH:$AH,2026) -> 0 | AK5: =COUNTIFS('Anzeigen verkaufsoffener Nächte'!$E:$E,AI2,'Anzeigen verkaufsoffener Nächte'!$AH:$AH,2027) -> 0 | AL5: =COUNTIFS('Anzeigen verkaufsoffener Nächte'!$E:$E,AL2,'Anzeigen verkaufsoffener Nächte'!$AH:$AH,2025) -> 0 | AM5: =COUNTIFS('Anzeigen verkaufsoffener Nächte'!$E:$E,AL2,'Anzeigen verkaufsoffener Nächte'!$AH:$AH,2026) -> 0 | AN5: =COUNTIFS('Anzeigen verkaufsoffener Nächte'!$E:$E,AL2,'Anzeigen verkaufsoffener Nächte'!$AH:$AH,2027) -> 0 | AO5: =COUNTIFS('Anzeigen verkaufsoffener Nächte'!$E:$E,AO2,'Anzeigen verkaufsoffener Nächte'!$AH:$AH,2025) -> 0 | AP5: =COUNTIFS('Anzeigen verkaufsoffener Nächte'!$E:$E,AO2,'Anzeigen verkaufsoffener Nächte'!$AH:$AH,2026) -> 0 | AQ5: =COUNTIFS('Anzeigen verkaufsoffener Nächte'!$E:$E,AO2,'Anzeigen verkaufsoffener Nächte'!$AH:$AH,2027) -> 0 | AR5: =COUNTIFS('Anzeigen verkaufsoffener Nächte'!$E:$E,AR2,'Anzeigen verkaufsoffener Nächte'!$AH:$AH,2025) -> 0 | AS5: =COUNTIFS('Anzeigen verkaufsoffener Nächte'!$E:$E,AR2,'Anzeigen verkaufsoffener Nächte'!$AH:$AH,2026) -> 0 | AT5: =COUNTIFS('Anzeigen verkaufsoffener Nächte'!$E:$E,AR2,'Anzeigen verkaufsoffener Nächte'!$AH:$AH,2027) -> 0 | AU5: =COUNTIFS('Anzeigen verkaufsoffener Nächte'!$E:$E,AU2,'Anzeigen verkaufsoffener Nächte'!$AH:$AH,2025) -> 0 | AV5: =COUNTIFS('Anzeigen verkaufsoffener Nächte'!$E:$E,AU2,'Anzeigen verkaufsoffener Nächte'!$AH:$AH,2026) -> 0 | AW5: =COUNTIFS('Anzeigen verkaufsoffener Nächte'!$E:$E,AU2,'Anzeigen verkaufsoffener Nächte'!$AH:$AH,2027) -> 0 | AX5: =COUNTIFS('Anzeigen verkaufsoffener Nächte'!$E:$E,AX2,'Anzeigen verkaufsoffener Nächte'!$AH:$AH,2025) -> 0 | AY5: =COUNTIFS('Anzeigen verkaufsoffener Nächte'!$E:$E,AX2,'Anzeigen verkaufsoffener Nächte'!$AH:$AH,2026) -> 0 | AZ5: =COUNTIFS('Anzeigen verkaufsoffener Nächte'!$E:$E,AX2,'Anzeigen verkaufsoffener Nächte'!$AH:$AH,2027) -> 0 | BA5: =COUNTIFS('Anzeigen verkaufsoffener Nächte'!$E:$E,BA2,'Anzeigen verkaufsoffener Nächte'!$AH:$AH,2025) -> 0 | BB5: =COUNTIFS('Anzeigen verkaufsoffener Nächte'!$E:$E,BA2,'Anzeigen verkaufsoffener Nächte'!$AH:$AH,2026) -> 0 | BC5: =COUNTIFS('Anzeigen verkaufsoffener Nächte'!$E:$E,BA2,'Anzeigen verkaufsoffener Nächte'!$AH:$AH,2027) -> 0 | BD5: =COUNTIFS('Anzeigen verkaufsoffener Nächte'!$E:$E,BD2,'Anzeigen verkaufsoffener Nächte'!$AH:$AH,2025) -> 0 | BE5: =COUNTIFS('Anzeigen verkaufsoffener Nächte'!$E:$E,BD2,'Anzeigen verkaufsoffener Nächte'!$AH:$AH,2026) -> 0 | BF5: =COUNTIFS('Anzeigen verkaufsoffener Nächte'!$E:$E,BD2,'Anzeigen verkaufsoffener Nächte'!$AH:$AH,2027) -> 0 | BG5: =COUNTIFS('Anzeigen verkaufsoffener Nächte'!$W:$W,"20:00",'Anzeigen verkaufsoffener Nächte'!$AH:$AH,2025) -> 0 | BH5: =COUNTIFS('Anzeigen verkaufsoffener Nächte'!$W:$W,"20:00",'Anzeigen verkaufsoffener Nächte'!$AH:$AH,2026) -> 0 | BI5: =COUNTIFS('Anzeigen verkaufsoffener Nächte'!$W:$W,"20:00",'Anzeigen verkaufsoffener Nächte'!$AH:$AH,2027) -> 0 | BJ5: =COUNTIFS('Anzeigen verkaufsoffener Nächte'!$W:$W,"20:30",'Anzeigen verkaufsoffener Nächte'!$AH:$AH,2025) -> 0 | BK5: =COUNTIFS('Anzeigen verkaufsoffener Nächte'!$W:$W,"20:30",'Anzeigen verkaufsoffener Nächte'!$AH:$AH,2026) -> 0 | BL5: =COUNTIFS('Anzeigen verkaufsoffener Nächte'!$W:$W,"20:30",'Anzeigen verkaufsoffener Nächte'!$AH:$AH,2027) -> 0 | BM5: =COUNTIFS('Anzeigen verkaufsoffener Nächte'!$W:$W,"21:00",'Anzeigen verkaufsoffener Nächte'!$AH:$AH,2025) -> 0 | BN5: =COUNTIFS('Anzeigen verkaufsoffener Nächte'!$W:$W,"21:00",'Anzeigen verkaufsoffener Nächte'!$AH:$AH,2026) -> 0 | BO5: =COUNTIFS('Anzeigen verkaufsoffener Nächte'!$W:$W,"21:00",'Anzeigen verkaufsoffener Nächte'!$AH:$AH,2027) -> 0 | BP5: =COUNTIFS('Anzeigen verkaufsoffener Nächte'!$W:$W,"21:30",'Anzeigen verkaufsoffener Nächte'!$AH:$AH,2025) -> 0 | BQ5: =COUNTIFS('Anzeigen verkaufsoffener Nächte'!$W:$W,"21:30",'Anzeigen verkaufsoffener Nächte'!$AH:$AH,2026) -> 0 | BR5: =COUNTIFS('Anzeigen verkaufsoffener Nächte'!$W:$W,"21:30",'Anzeigen verkaufsoffener Nächte'!$AH:$AH,2027) -> 0 | BS5: =COUNTIFS('Anzeigen verkaufsoffener Nächte'!$W:$W,"22:00",'Anzeigen verkaufsoffener Nächte'!$AH:$AH,2025) -> 0 | BT5: =COUNTIFS('Anzeigen verkaufsoffener Nächte'!$W:$W,"22:00",'Anzeigen verkaufsoffener Nächte'!$AH:$AH,2026) -> 0 | BU5: =COUNTIFS('Anzeigen verkaufsoffener Nächte'!$W:$W,"22:00",'Anzeigen verkaufsoffener Nächte'!$AH:$AH,2027) -> 0 | BV5: =COUNTIFS('Anzeigen verkaufsoffener Nächte'!$W:$W,"22:30",'Anzeigen verkaufsoffener Nächte'!$AH:$AH,2025) -> 0 | BW5: =COUNTIFS('Anzeigen verkaufsoffener Nächte'!$W:$W,"22:30",'Anzeigen verkaufsoffener Nächte'!$AH:$AH,2026) -> 0 | BX5: =COUNTIFS('Anzeigen verkaufsoffener Nächte'!$W:$W,"22:30",'Anzeigen verkaufsoffener Nächte'!$AH:$AH,2027) -> 0 | BY5: =COUNTIFS('Anzeigen verkaufsoffener Nächte'!$W:$W,"23:00",'Anzeigen verkaufsoffener Nächte'!$AH:$AH,2025) -> 0 | BZ5: =COUNTIFS('Anzeigen verkaufsoffener Nächte'!$W:$W,"23:00",'Anzeigen verkaufsoffener Nächte'!$AH:$AH,2026) -> 0 | CA5: =COUNTIFS('Anzeigen verkaufsoffener Nächte'!$W:$W,"23:00",'Anzeigen verkaufsoffener Nächte'!$AH:$AH,2027) -> 0 | CB5: =COUNTIFS('Anzeigen verkaufsoffener Nächte'!$W:$W,"23:30",'Anzeigen verkaufsoffener Nächte'!$AH:$AH,2025) -> 0 | CC5: =COUNTIFS('Anzeigen verkaufsoffener Nächte'!$W:$W,"23:30",'Anzeigen verkaufsoffener Nächte'!$AH:$AH,2026) -> 0 | CD5: =COUNTIFS('Anzeigen verkaufsoffener Nächte'!$W:$W,"23:30",'Anzeigen verkaufsoffener Nächte'!$AH:$AH,2027) -> 0 | CE5: =COUNTIFS('Anzeigen verkaufsoffener Nächte'!$X:$X,"20:30",'Anzeigen verkaufsoffener Nächte'!$AH:$AH,2025) -> 0 | CF5: =COUNTIFS('Anzeigen verkaufsoffener Nächte'!$X:$X,"20:30",'Anzeigen verkaufsoffener Nächte'!$AH:$AH,2026) -> 0 | CG5: =COUNTIFS('Anzeigen verkaufsoffener Nächte'!$X:$X,"20:30",'Anzeigen verkaufsoffener Nächte'!$AH:$AH,2027) -> 0 | CH5: =COUNTIFS('Anzeigen verkaufsoffener Nächte'!$X:$X,"21:00",'Anzeigen verkaufsoffener Nächte'!$AH:$AH,2025) -> 0 | CI5: =COUNTIFS('Anzeigen verkaufsoffener Nächte'!$X:$X,"21:00",'Anzeigen verkaufsoffener Nächte'!$AH:$AH,2026) -> 0 | CJ5: =COUNTIFS('Anzeigen verkaufsoffener Nächte'!$X:$X,"21:00",'Anzeigen verkaufsoffener Nächte'!$AH:$AH,2027) -> 0 | CK5: =COUNTIFS('Anzeigen verkaufsoffener Nächte'!$X:$X,"21:30",'Anzeigen verkaufsoffener Nächte'!$AH:$AH,2025) -> 0 | CL5: =COUNTIFS('Anzeigen verkaufsoffener Nächte'!$X:$X,"21:30",'Anzeigen verkaufsoffener Nächte'!$AH:$AH,2026) -> 0 | CM5: =COUNTIFS('Anzeigen verkaufsoffener Nächte'!$X:$X,"21:30",'Anzeigen verkaufsoffener Nächte'!$AH:$AH,2027) -> 0 | CN5: =COUNTIFS('Anzeigen verkaufsoffener Nächte'!$X:$X,"22:00",'Anzeigen verkaufsoffener Nächte'!$AH:$AH,2025) -> 0 | CO5: =COUNTIFS('Anzeigen verkaufsoffener Nächte'!$X:$X,"22:00",'Anzeigen verkaufsoffener Nächte'!$AH:$AH,2026) -> 0 | CP5: =COUNTIFS('Anzeigen verkaufsoffener Nächte'!$X:$X,"22:00",'Anzeigen verkaufsoffener Nächte'!$AH:$AH,2027) -> 0 | CQ5: =COUNTIFS('Anzeigen verkaufsoffener Nächte'!$X:$X,"22:30",'Anzeigen verkaufsoffener Nächte'!$AH:$AH,2025) -> 0 | CR5: =COUNTIFS('Anzeigen verkaufsoffener Nächte'!$X:$X,"22:30",'Anzeigen verkaufsoffener Nächte'!$AH:$AH,2026) -> 0 | CS5: =COUNTIFS('Anzeigen verkaufsoffener Nächte'!$X:$X,"22:30",'Anzeigen verkaufsoffener Nächte'!$AH:$AH,2027) -> 0 | CT5: =COUNTIFS('Anzeigen verkaufsoffener Nächte'!$X:$X,"23:00",'Anzeigen verkaufsoffener Nächte'!$AH:$AH,2025) -> 0 | CU5: =COUNTIFS('Anzeigen verkaufsoffener Nächte'!$X:$X,"23:00",'Anzeigen verkaufsoffener Nächte'!$AH:$AH,2026) -> 0 | CV5: =COUNTIFS('Anzeigen verkaufsoffener Nächte'!$X:$X,"23:00",'Anzeigen verkaufsoffener Nächte'!$AH:$AH,2027) -> 0 | CW5: =COUNTIFS('Anzeigen verkaufsoffener Nächte'!$X:$X,"23:30",'Anzeigen verkaufsoffener Nächte'!$AH:$AH,2025) -> 0 | CX5: =COUNTIFS('Anzeigen verkaufsoffener Nächte'!$X:$X,"23:30",'Anzeigen verkaufsoffener Nächte'!$AH:$AH,2026) -> 0 | CY5: =COUNTIFS('Anzeigen verkaufsoffener Nächte'!$X:$X,"23:30",'Anzeigen verkaufsoffener Nächte'!$AH:$AH,2027) -> 0 | CZ5: =COUNTIFS('Anzeigen verkaufsoffener Nächte'!$X:$X,"24:00",'Anzeigen verkaufsoffener Nächte'!$AH:$AH,2025) -> 0 | DA5: =COUNTIFS('Anzeigen verkaufsoffener Nächte'!$X:$X,"24:00",'Anzeigen verkaufsoffener Nächte'!$AH:$AH,2026) -> 0 | DB5: =COUNTIFS('Anzeigen verkaufsoffener Nächte'!$X:$X,"24:00",'Anzeigen verkaufsoffener Nächte'!$AH:$AH,2027) -> 0 | DC5: =SUMIFS('Anzeigen verkaufsoffener Nächte'!$AI:$AI,'Anzeigen verkaufsoffener Nächte'!$AH:$AH,2025)/'Anzeigen verkaufsoffener Nächte'!$AJ$11 -> #DIV/0! | DD5: =SUMIFS('Anzeigen verkaufsoffener Nächte'!$AI:$AI,'Anzeigen verkaufsoffener Nächte'!$AH:$AH,2026)/'Anzeigen verkaufsoffener Nächte'!$AK$11 -> #DIV/0! | DE5: =SUMIFS('Anzeigen verkaufsoffener Nächte'!$AI:$AI,'Anzeigen verkaufsoffener Nächte'!$AH:$AH,2026)/'Anzeigen verkaufsoffener Nächte'!$AL$11 -> #DIV/0! | DF5: =COUNTIFS('Anzeigen verkaufsoffener Nächte'!$AC:$AC,DF2,'Anzeigen verkaufsoffener Nächte'!$AH:$AH,2025) -> 0 | DG5: =COUNTIFS('Anzeigen verkaufsoffener Nächte'!$AC:$AC,DF2,'Anzeigen verkaufsoffener Nächte'!$AH:$AH,2026) -> 0 | DH5: =COUNTIFS('Anzeigen verkaufsoffener Nächte'!$AC:$AC,DF2,'Anzeigen verkaufsoffener Nächte'!$AH:$AH,2027) -> 0 | DI5: =COUNTIFS('Anzeigen verkaufsoffener Nächte'!$AC:$AC,DI2,'Anzeigen verkaufsoffener Nächte'!$AH:$AH,2025) -> 0 | DJ5: =COUNTIFS('Anzeigen verkaufsoffener Nächte'!$AC:$AC,DI2,'Anzeigen verkaufsoffener Nächte'!$AH:$AH,2026) -> 0 | DK5: =COUNTIFS('Anzeigen verkaufsoffener Nächte'!$AC:$AC,DI2,'Anzeigen verkaufsoffener Nächte'!$AH:$AH,2027) -> 0 | DL5: =COUNTIFS('Anzeigen verkaufsoffener Nächte'!$AC:$AC,DL2,'Anzeigen verkaufsoffener Nächte'!$AH:$AH,2025) -> 0 | DM5: =COUNTIFS('Anzeigen verkaufsoffener Nächte'!$AC:$AC,DL2,'Anzeigen verkaufsoffener Nächte'!$AH:$AH,2026) -> 0 | DN5: =COUNTIFS('Anzeigen verkaufsoffener Nächte'!$AC:$AC,DL2,'Anzeigen verkaufsoffener Nächte'!$AH:$AH,2027) -> 0 | DO5: =COUNTIFS('Anzeigen verkaufsoffener Nächte'!$AC:$AC,DO2,'Anzeigen verkaufsoffener Nächte'!$AH:$AH,2025) -> 0 | DP5: =COUNTIFS('Anzeigen verkaufsoffener Nächte'!$AC:$AC,DO2,'Anzeigen verkaufsoffener Nächte'!$AH:$AH,2026) -> 0 | DQ5: =COUNTIFS('Anzeigen verkaufsoffener Nächte'!$AC:$AC,DO2,'Anzeigen verkaufsoffener Nächte'!$AH:$AH,2027) -> 0 | DR5: =COUNTIFS('Anzeigen verkaufsoffener Nächte'!$AC:$AC,DR2,'Anzeigen verkaufsoffener Nächte'!$AH:$AH,2025) -> 0 | DS5: =COUNTIFS('Anzeigen verkaufsoffener Nächte'!$AC:$AC,DR2,'Anzeigen verkaufsoffener Nächte'!$AH:$AH,2026) -> 0 | DT5: =COUNTIFS('Anzeigen verkaufsoffener Nächte'!$AC:$AC,DR2,'Anzeigen verkaufsoffener Nächte'!$AH:$AH,2027) -> 0 | DU5: ='Anzeigen verkaufsoffener Nächte'!D5 -> 0

Sheet Gemeindeverzeichnis
A1: Gemeinde / Markt / Stadt / Verwaltungsgemeinschaft | B1: Regierungsbezirk | C1: Landratsamt / kreisfreie Stadt | D1: Gemeinde / Markt / Stadt / Verwaltungsgemeinschaft | E1: Verwaltungssitz / Behörde | F1: Straße | G1: PLZ | H1: Ort | I1: Amtlicher Regional- schlüssel (ARS) | J1: Amtlicher Gemeinde-schlüssel (AGS) | L1: Suchen | M1: boolean | N1: Filtern | O1: PLZ + ORTE, Stand 2020 | P1: PLZ-GemVerwaltung | Q1: Gemeindename
A2: Stadt Ingolstadt | B2: Oberbayern | C2: Stadt Ingolstadt | D2: Stadt Ingolstadt | E2: Stadt Ingolstadt | F2: Rathausplatz 4 | G2: 85049 | H2: Ingolstadt | I2: 091610000000 | J2: 09161000 | L2: {=SEARCH('Anzeigen verkaufsoffener Nächte'!G2,Gemeindeverzeichnis!D2:D2188)} -> 1 | M2: {=ISNUMBER(L2:L2188)} -> TRUE | N2: {=_xlfn._xlws.FILTER(D2:D2188,M2:M2188)} -> Stadt Ingolstadt | P2: 84503 | Q2: Altötting, St
A3: Landeshauptstadt München | B3: Oberbayern | C3: Landeshauptstadt München | D3: Landeshauptstadt München | E3: Landeshauptstadt München | G3: 80313 | H3: München | I3: 091620000000 | J3: 09162000 | L3: 1 | M3: TRUE | N3: Landeshauptstadt München | P3: 84489 | Q3: Burghausen, St
A4: Stadt Rosenheim | B4: Oberbayern | C4: Stadt Rosenheim | D4: Stadt Rosenheim | E4: Stadt Rosenheim | F4: Postfach 1209 | G4: 83013 | H4: Rosenheim | I4: 091630000000 | J4: 09163000 | L4: 1 | M4: TRUE | N4: Stadt Rosenheim | P4: 84508 | Q4: Burgkirchen a.d.Alz
A5: Stadt Altötting | B5: Oberbayern | C5: Landratsamt Altötting | D5: Stadt Altötting | E5: Stadt Altötting | F5: Kapellplatz 2a | G5: 84503 | H5: Altötting | I5: 091710111111 | J5: 09171111 | L5: 1 | M5: TRUE | N5: Stadt Altötting | P5: 84547 | Q5: Emmerting
A6: Stadt Burghausen | B6: Oberbayern | C6: Landratsamt Altötting | D6: Stadt Burghausen | E6: Stadt Burghausen | F6: Postfach 1240 | G6: 84480 | H6: Burghausen | I6: 091710112112 | J6: 09171112 | L6: 1 | M6: TRUE | N6: Stadt Burghausen | P6: 84567 | Q6: Erlbach
A7: Gemeinde Burgkirchen a.d.Alz | B7: Oberbayern | C7: Landratsamt Altötting | D7: Gemeinde Burgkirchen a.d.Alz | E7: Gemeinde Burgkirchen a.d.Alz | F7: Max-Planck-Platz 5 | G7: 84508 | H7: Burgkirchen a.d.Alz | I7: 091710113113 | J7: 09171113 | L7: 1 | M7: TRUE | N7: Gemeinde Burgkirchen a.d.Alz | P7: 84550 | Q7: Feichten a.d.Alz
A8: Gemeinde Garching a.d.Alz | B8: Oberbayern | C8: Landratsamt Altötting | D8: Gemeinde Garching a.d.Alz | E8: Gemeinde Garching a.d.Alz | F8: Postfach 1160 | G8: 84514 | H8: Garching a.d.Alz | I8: 091710117117 | J8: 09171117 | L8: 1 | M8: TRUE | N8: Gemeinde Garching a.d.Alz | P8: 84518 | Q8: Garching a.d.Alz
A9: Gemeinde Haiming | B9: Oberbayern | C9: Landratsamt Altötting | D9: Gemeinde Haiming | E9: Gemeinde Haiming | F9: Hauptstraße 18 | G9: 84533 | H9: Haiming | I9: 091710118118 | J9: 09171118 | L9: 1 | M9: TRUE | N9: Gemeinde Haiming | P9: 84533 | Q9: Haiming
A10: Stadt Neuötting | B10: Oberbayern | C10: Landratsamt Altötting | D10: Stadt Neuötting | E10: Stadt Neuötting | F10: Postfach 1107 | G10: 84519 | H10: Neuötting | I10: 091710125125 | J10: 09171125 | L10: 1 | M10: TRUE | N10: Stadt Neuötting | P10: 84553 | Q10: Halsbach
A11: Gemeinde Pleiskirchen | B11: Oberbayern | C11: Landratsamt Altötting | D11: Gemeinde Pleiskirchen | E11: Gemeinde Pleiskirchen | F11: Schulstraße 12 | G11: 84568 | H11: Pleiskirchen | I11: 091710127127 | J11: 09171127 | L11: 1 | M11: TRUE | N11: Gemeinde Pleiskirchen | P11: 84556 | Q11: Kastl
A12: Gemeinde Teising | B12: Oberbayern | C12: Landratsamt Altötting | D12: Gemeinde Teising | E12: Gemeinde Teising | F12: Hauptstraße 5 | G12: 84576 | H12: Teising | I12: 091710131131 | J12: 09171131 | L12: 1 | M12: TRUE | N12: Gemeinde Teising | P12: 84558 | Q12: Kirchweidach
A13: Stadt Töging a.Inn | B13: Oberbayern | C13: Landratsamt Altötting | D13: Stadt Töging a.Inn | E13: Stadt Töging a.Inn | F13: Postfach 1161 | G13: 84509 | H13: Töging a.Inn | I13: 091710132132 | J13: 09171132 | L13: 1 | M13: TRUE | N13: Stadt Töging a.Inn | P13: 84533 | Q13: Marktl, M
A14: Markt Tüßling | B14: Oberbayern | C14: Landratsamt Altötting | D14: Markt Tüßling | E14: Markt Tüßling | F14: Marktplatz 2 | G14: 84577 | H14: Tüßling | I14: 091710133133 | J14: 09171133 | L14: 1 | M14: TRUE | N14: Markt Tüßling | P14: 84561 | Q14: Mehring
A15: Gemeinde Winhöring | B15: Oberbayern | C15: Landratsamt Altötting | D15: Gemeinde Winhöring | E15: Gemeinde Winhöring | F15: Postfach 1151 | G15: 84540 | H15: Winhöring | I15: 091710137137 | J15: 09171137 | L15: 1 | M15: TRUE | N15: Gemeinde Winhöring | P15: 84524 | Q15: Neuötting, St
... A169: Gemeinde Fahrenzhausen | B169: Oberbayern | C169: Landratsamt Freising | D169: Gemeinde Fahrenzhausen | E169: Gemeinde Fahrenzhausen | F169: Hauptstraße 21 | G169: 85777 | H169: Fahrenzhausen | I169: 091780123123 | J169: 09178123 | L169: 1 | M169: TRUE | N169: Gemeinde Fahrenzhausen | P169: 85256 | Q169: Vierkirchen
A170: Große Kreisstadt Freising | B170: Oberbayern | C170: Landratsamt Freising | D170: Große Kreisstadt Freising | E170: Große Kreisstadt Freising | G170: 85350 | H170: Freising | I170: 091780124124 | J170: 09178124 | L170: 1 | M170: TRUE | N170: Große Kreisstadt Freising | P170: 85258 | Q170: Weichs
A171: Gemeinde Hallbergmoos | B171: Oberbayern | C171: Landratsamt Freising | D171: Gemeinde Hallbergmoos | E171: Gemeinde Hallbergmoos | F171: Rathausplatz 1 | G171: 85399 | H171: Hallbergmoos | I171: 091780130130 | J171: 09178130 | L171: 1 | M171: TRUE | N171: Gemeinde Hallbergmoos | P171: 82276 | Q171: Adelshofen
A172: Gemeinde Hohenkammer | B172: Oberbayern | C172: Landratsamt Freising | D172: Gemeinde Hohenkammer | E172: Gemeinde Hohenkammer | F172: Petershauser Straße 1 | G172: 85411 | H172: Hohenkammer | I172: 091780133133 | J172: 09178133 | L172: 1 | M172: TRUE | N172: Gemeinde Hohenkammer | P172: 82239 | Q172: Alling
A173: Gemeinde Kirchdorf a.d.Amper | B173: Oberbayern | C173: Landratsamt Freising | D173: Gemeinde Kirchdorf a.d.Amper | E173: Gemeinde Kirchdorf a.d.Amper | F173: Rathausplatz 1 | G173: 85414 | H173: Kirchdorf a. d. Amper | I173: 091780136136 | J173: 09178136 | L173: 1 | M173: TRUE | N173: Gemeinde Kirchdorf a.d.Amper | P173: 82278 | Q173: Althegnenberg
A174: Gemeinde Kranzberg | B174: Oberbayern | C174: Landratsamt Freising | D174: Gemeinde Kranzberg | E174: Gemeinde Kranzberg | F174: Untere Dorfstraße 3 | G174: 85402 | H174: Kranzberg | I174: 091780137137 | J174: 09178137 | L174: 1 | M174: TRUE | N174: Gemeinde Kranzberg | P174: 82281 | Q174: Egenhofen
A175: Gemeinde Langenbach | B175: Oberbayern | C175: Landratsamt Freising | D175: Gemeinde Langenbach | E175: Gemeinde Langenbach | F175: Bahnhofstraße 6 | G175: 85416 | H175: Langenbach | I175: 091780138138 | J175: 09178138 | L175: 1 | M175: TRUE | N175: Gemeinde Langenbach | P175: 82223 | Q175: Eichenau
A176: Gemeinde Marzling | B176: Oberbayern | C176: Landratsamt Freising | D176: Gemeinde Marzling | E176: Gemeinde Marzling | F176: Freisinger Straße 11 | G176: 85417 | H176: Marzling | I176: 091780140140 | J176: 09178140 | L176: 1 | M176: TRUE | N176: Gemeinde Marzling | P176: 82275 | Q176: Emmering
A177: Stadt Moosburg a.d.Isar | B177: Oberbayern | C177: Landratsamt Freising | D177: Stadt Moosburg a.d.Isar | E177: Stadt Moosburg a.d.Isar | F177: Stadtplatz 13 | G177: 85368 | H177: Moosburg a.d.Isar | I177: 091780143143 | J177: 09178143 | L177: 1 | M177: TRUE | N177: Stadt Moosburg a.d.Isar | P177: 82256 | Q177: Fürstenfeldbruck, GKSt
A178: Markt Nandlstadt | B178: Oberbayern | C178: Landratsamt Freising | D178: Markt Nandlstadt | E178: Markt Nandlstadt | F178: Rathausplatz 1 | G178: 85405 | H178: Nandlstadt | I178: 091780144144 | J178: 09178144 | L178: 1 | M178: TRUE | N178: Markt Nandlstadt | P178: 82284 | Q178: Grafrath
A179: Gemeinde Neufahrn b.Freising | B179: Oberbayern | C179: Landratsamt Freising | D179: Gemeinde Neufahrn b.Freising | E179: Gemeinde Neufahrn b.Freising | F179: Postfach 1380 | G179: 85371 | H179: Neufahrn b.Freising | I179: 091780145145 | J179: 09178145 | L179: 1 | M179: TRUE | N179: Gemeinde Neufahrn b.Freising | P179: 82194 | Q179: Gröbenzell
A180: Gemeinde Allershausen | B180: Oberbayern | C180: Landratsamt Freising | D180: Gemeinde Allershausen | E180: Verwaltungsgemeinschaft Allershausen | F180: Postfach 1143 | G180: 85387 | H180: Allershausen | I180: 091785127113 | J180: 09178113 | L180: 1 | M180: TRUE | N180: Gemeinde Allershausen | P180: 82285 | Q180: Hattenhofen
A181: Gemeinde Paunzhausen | B181: Oberbayern | C181: Landratsamt Freising | D181: Gemeinde Paunzhausen | E181: Verwaltungsgemeinschaft Allershausen | F181: Postfach 1143 | G181: 85387 | H181: Allershausen | I181: 091785127150 | J181: 09178150 | L181: 1 | M181: TRUE | N181: Gemeinde Paunzhausen | P181: 82287 | Q181: Jesenwang
A182: Gemeinde Gammelsdorf | B182: Oberbayern | C182: Landratsamt Freising | D182: Gemeinde Gammelsdorf | E182: Verwaltungsgemeinschaft Mauern | F182: Schloßplatz 2 | G182: 85419 | H182: Mauern | I182: 091785129125 | J182: 09178125 | L182: 1 | M182: TRUE | N182: Gemeinde Gammelsdorf | P182: 82288 | Q182: Kottgeisering
... A498: Stadt Schongau | B498: Oberbayern | C498: Landratsamt Weilheim-Schongau | D498: Stadt Schongau | E498: Stadt Schongau | F498: Postfach 1348 | G498: 86953 | H498: Schongau | I498: 091900148148 | J498: 09190148 | L498: 1 | M498: TRUE | N498: Stadt Schongau | P498: 82402 | Q498: Seeshaupt
A499: Stadt Weilheim i.OB | B499: Oberbayern | C499: Landratsamt Weilheim-Schongau | D499: Stadt Weilheim i.OB | E499: Stadt Weilheim i.OB | G499: 82360 | H499: Weilheim i.OB | I499: 091900157157 | J499: 09190157 | L499: 1 | M499: TRUE | N499: Stadt Weilheim i.OB | P499: 82404 | Q499: Sindelsdorf
A500: Gemeinde Wessobrunn | B500: Oberbayern | C500: Landratsamt Weilheim-Schongau | D500: Gemeinde Wessobrunn | E500: Gemeinde Wessobrunn | F500: Zöpfstraße 1 | G500: 82405 | H500: Wessobrunn | I500: 091900158158 | J500: 09190158 | L500: 1 | M500: TRUE | N500: Gemeinde Wessobrunn | P500: 86989 | Q500: Steingaden
A501: Gemeinde Wielenbach | B501: Oberbayern | C501: Landratsamt Weilheim-Schongau | D501: Gemeinde Wielenbach | E501: Gemeinde Wielenbach | F501: Peter-Kaufinger-Straße 10 | G501: 82407 | H501: Wielenbach | I501: 091900159159 | J501: 09190159 | L501: 1 | M501: TRUE | N501: Gemeinde Wielenbach | P501: 82362 | Q501: Weilheim i.OB, St
A502: Gemeinde Altenstadt | B502: Oberbayern | C502: Landratsamt Weilheim-Schongau | D502: Gemeinde Altenstadt | E502: Verwaltungsgemeinschaft Altenstadt | F502: Marienplatz 2 | G502: 86972 | H502: Altenstadt | I502: 091905174111 | J502: 09190111 | L502: 1 | M502: TRUE | N502: Gemeinde Altenstadt | P502: 82405 | Q502: Wessobrunn
A503: Gemeinde Hohenfurch | B503: Oberbayern | C503: Landratsamt Weilheim-Schongau | D503: Gemeinde Hohenfurch | E503: Verwaltungsgemeinschaft Altenstadt | F503: Marienplatz 2 | G503: 86972 | H503: Altenstadt | I503: 091905174129 | J503: 09190129 | L503: 1 | M503: TRUE | N503: Gemeinde Hohenfurch | P503: 82407 | Q503: Wielenbach
A504: Gemeinde Ingenried | B504: Oberbayern | C504: Landratsamt Weilheim-Schongau | D504: Gemeinde Ingenried | E504: Verwaltungsgemeinschaft Altenstadt | F504: Marienplatz 2 | G504: 86972 | H504: Altenstadt | I504: 091905174133 | J504: 09190133 | L504: 1 | M504: TRUE | N504: Gemeinde Ingenried | P504: 82409 | Q504: Wildsteig
A505: Gemeinde Schwabbruck | B505: Oberbayern | C505: Landratsamt Weilheim-Schongau | D505: Gemeinde Schwabbruck | E505: Verwaltungsgemeinschaft Altenstadt | F505: Marienplatz 2 | G505: 86972 | H505: Altenstadt | I505: 091905174149 | J505: 09190149 | L505: 1 | M505: TRUE | N505: Gemeinde Schwabbruck | P505: 94527 | Q505: Aholming
A506: Gemeinde Schwabsoien | B506: Oberbayern | C506: Landratsamt Weilheim-Schongau | D506: Gemeinde Schwabsoien | E506: Verwaltungsgemeinschaft Altenstadt | F506: Marienplatz 2 | G506: 86972 | H506: Altenstadt | I506: 091905174151 | J506: 09190151 | L506: 1 | M506: TRUE | N506: Gemeinde Schwabsoien | P506: 94530 | Q506: Auerbach
A507: Gemeinde Bernbeuren | B507: Oberbayern | C507: Landratsamt Weilheim-Schongau | D507: Gemeinde Bernbeuren | E507: Verwaltungsgemeinschaft Bernbeuren | F507: Marktplatz 4 | G507: 86975 | H507: Bernbeuren | I507: 091905175114 | J507: 09190114 | L507: 1 | M507: TRUE | N507: Gemeinde Bernbeuren | P507: 94532 | Q507: Außernzell
A508: Gemeinde Burggen | B508: Oberbayern | C508: Landratsamt Weilheim-Schongau | D508: Gemeinde Burggen | E508: Verwaltungsgemeinschaft Bernbeuren | F508: Marktplatz 4 | G508: 86975 | H508: Bernbeuren | I508: 091905175118 | J508: 09190118 | L508: 1 | M508: TRUE | N508: Gemeinde Burggen | P508: 94505 | Q508: Bernried
...
