Workbook
Name Regierungsbezirke: "Oberbayern,Niederbayern,Oberfranken,Mittelfranken,Unterfranken,Oberpfalz,Schwaben"

Sheet Anzeigen verkaufsoffener Nächte
A1: Anzeigen individueller verkaufsoffener Nächte an Werktagen
A2: Stand: | B2: 45940 | D2: bitte beachten: | E2: orange Felder = PFLICHTFELDER | F2: Stadt / Markt / Gemeinde: | J2: Regierungsbezirk: | L2: =IF(G2="","bitte Stadt / Markt / Gemeinde suchen",VLOOKUP(G2,Gemeindeverzeichnis!A2:D2188,2,FALSE)) -> bitte Stadt / Markt / Gemeinde suchen | M2: Landkreis / kreisfreie Stadt: | N2: =IF(G2="","bitte Stadt / Markt / Gemeinde suchen",VLOOKUP(G2,Gemeindeverzeichnis!A2:D2188,3,FALSE)) -> bitte Stadt / Markt / Gemeinde suchen | R2: Anschrift: | S2: =IF(G2="","bitte Stadt / Markt / Gemeinde suchen",VLOOKUP(G2,Gemeindeverzeichnis!A2:H2188,5,FALSE)&", "&VLOOKUP(G2,Gemeindeverzeichnis!A2:H2188,6,FALSE)&" - "&VLOOKUP(G2,Gemeindeverzeichnis!A2:H2188,7,FALSE)&" "&VLOOKUP(G2,Gemeindeverzeichnis!A2:H2188,8,FALSE)) -> bitte Stadt / Markt / Gemeinde suchen
D4: freiwillige Rückmeldung im Rahmen der Evaluation zum 1. August 2027, vgl. Arbeitsblatt "Erläuterungen" | G4: Jahr | H4: Einwohnerzahl gesamt: | J4: Verkaufsstellen gesamt: | L4: Anzahl gemeindeweite verkaufsoffene Nächte:
G5: 2025
G6: 2026
G7: 2027
A9: lfd. Nr. | D9: Angaben zum Unternehmen | L9: Angaben zur Verkaufsstelle | R9: Kontakt | V9: angezeigte verkaufsoffene Nacht | AE9: FREIFELDER
A10: # | B10: Hinw. | D10: Unternehmen | E10: betrieblicher Schwerpunkt | F10: sonstiger betrieblicher Schwerpunkt | G10: Straße | H10: Hausnummer | I10: PLZ | J10: Ort | L10: Name der Verkaufsstelle | M10: Straße | N10: Hausnummer | O10: PLZ | P10: Ort | R10: Ansprechpartner | S10: Telefonnummer | T10: E-Mail-Adresse | V10: Datum | W10: Uhrzeit von | X10: Uhrzeit bis | Z10: bisherige verkaufsoffene Nächte | AB10: Anzeigedatum | AC10: Form der Anzeige | AD10: 2 | AE10: *Freifeld | AF10: *Freifeld | AI10: Öffnungsdauer | AJ10: Werte 2025 | AK10: Werte 2026 | AL10: Werte 2027
A11: 1 | B11: =IF(Tabelle1[[#This Row],['#]]="","",IF(OR(ISBLANK(Tabelle1[[#This Row],[betrieblicher Schwerpunkt]]),ISBLANK(Tabelle1[[#This Row],[PLZ]]),ISBLANK(Tabelle1[[#This Row],[Name der Verkaufsstelle]]),ISBLANK(Tabelle1[[#This Row],[Straße ]]),ISBLANK(Tabelle1[[#This Row],[Hausnummer ]]),ISBLANK(Tabelle1[[#This Row],[PLZ ]]),ISBLANK(Tabelle1[[#This Row],[Datum]]),ISBLANK(Tabelle1[[#This Row],[Uhrzeit von]]),ISBLANK(Tabelle1[[#This Row],[Uhrzeit bis]]),ISBLANK(Tabelle1[[#This Row],[bisherige verkaufsoffene Nächte]]),ISBLANK(Tabelle1[[#This Row],[Anzeigedatum]]),ISBLANK(Tabelle1[[#This Row],[Form der Anzeige]])),0,1)) -> 0 | J11: =IF(I11="","",IFERROR(VLOOKUP(I11,Gemeindeverzeichnis!$P$2:$Q$2188,2,FALSE),"Ort bitte manuell eintragen")) | P11: =IF(O11="","",IFERROR(VLOOKUP(O11,Gemeindeverzeichnis!$P$2:$Q$2188,2,FALSE),"Ort bitte manuell eintragen")) | AH11: =YEAR(V11) -> 1900 | AI11: =IF(Tabelle1[[#This Row],[Uhrzeit von]]="","",Tabelle1[[#This Row],[Uhrzeit bis]]-Tabelle1[[#This Row],[Uhrzeit von]]) | AJ11: =COUNTIF($AH:$AH,"2025") -> 0 | AK11: =COUNTIF($AH:$AH,"2026") -> 0 | AL11: =COUNTIF($AH:$AH,"2027") -> 0
A12: =IF(Tabelle1[[#This Row],[Unternehmen]]="","",A11+1) | B12: =IF(Tabelle1[[#This Row],['#]]="","",IF(OR(ISBLANK(Tabelle1[[#This Row],[betrieblicher Schwerpunkt]]),ISBLANK(Tabelle1[[#This Row],[PLZ]]),ISBLANK(Tabelle1[[#This Row],[Name der Verkaufsstelle]]),ISBLANK(Tabelle1[[#This Row],[Straße ]]),ISBLANK(Tabelle1[[#This Row],[Hausnummer ]]),ISBLANK(Tabelle1[[#This Row],[PLZ ]]),ISBLANK(Tabelle1[[#This Row],[Datum]]),ISBLANK(Tabelle1[[#This Row],[Uhrzeit von]]),ISBLANK(Tabelle1[[#This Row],[Uhrzeit bis]]),ISBLANK(Tabelle1[[#This Row],[bisherige verkaufsoffene Nächte]]),ISBLANK(Tabelle1[[#This Row],[Anzeigedatum]]),ISBLANK(Tabelle1[[#This Row],[Form der Anzeige]])),0,1)) | J12: =IF(I12="","",IFERROR(VLOOKUP(I12,Gemeindeverzeichnis!$P$2:$Q$2188,2,FALSE),"Ort bitte manuell eintragen")) | P12: =IF(O12="","",IFERROR(VLOOKUP(O12,Gemeindeverzeichnis!$P$2:$Q$2188,2,FALSE),"Ort bitte manuell eintragen")) | AH12: =YEAR(V12) -> 1900 | AI12: =IF(Tabelle1[[#This Row],[Uhrzeit von]]="","",Tabelle1[[#This Row],[Uhrzeit bis]]-Tabelle1[[#This Row],[Uhrzeit von]])
A13: =IF(Tabelle1[[#This Row],[Unternehmen]]="","",A12+1) | B13: =IF(Tabelle1[[#This Row],['#]]="","",IF(OR(ISBLANK(Tabelle1[[#This Row],[betrieblicher Schwerpunkt]]),ISBLANK(Tabelle1[[#This Row],[PLZ]]),ISBLANK(Tabelle1[[#This Row],[Name der Verkaufsstelle]]),ISBLANK(Tabelle1[[#This Row],[Straße ]]),ISBLANK(Tabelle1[[#This Row],[Hausnummer ]]),ISBLANK(Tabelle1[[#This Row],[PLZ ]]),ISBLANK(Tabelle1[[#This Row],[Datum]]),ISBLANK(Tabelle1[[#This Row],[Uhrzeit von]]),ISBLANK(Tabelle1[[#This Row],[Uhrzeit bis]]),ISBLANK(Tabelle1[[#This Row],[bisherige verkaufsoffene Nächte]]),ISBLANK(Tabelle1[[#This Row],[Anzeigedatum]]),ISBLANK(Tabelle1[[#This Row],[Form der Anzeige]])),0,1)) | J13: =IF(I13="","",IFERROR(VLOOKUP(I13,Gemeindeverzeichnis!$P$2:$Q$2188,2,FALSE),"Ort bitte manuell eintragen")) | P13: =IF(O13="","",IFERROR(VLOOKUP(O13,Gemeindeverzeichnis!$P$2:$Q$2188,2,FALSE),"Ort bitte manuell eintragen")) | AH13: =YEAR(V13) -> 1900 | AI13: =IF(Tabelle1[[#This Row],[Uhrzeit von]]="","",Tabelle1[[#This Row],[Uhrzeit bis]]-Tabelle1[[#This Row],[Uhrzeit von]])
A14: =IF(Tabelle1[[#This Row],[Unternehmen]]="","",A13+1) | B14: =IF(Tabelle1[[#This Row],['#]]="","",IF(OR(ISBLANK(Tabelle1[[#This Row],[betrieblicher Schwerpunkt]]),ISBLANK(Tabelle1[[#This Row],[PLZ]]),ISBLANK(Tabelle1[[#This Row],[Name der Verkaufsstelle]]),ISBLANK(Tabelle1[[#This Row],[Straße ]]),ISBLANK(Tabelle1[[#This Row],[Hausnummer ]]),ISBLANK(Tabelle1[[#This Row],[PLZ ]]),ISBLANK(Tabelle1[[#This Row],[Datum]]),ISBLANK(Tabelle1[[#This Row],[Uhrzeit von]]),ISBLANK(Tabelle1[[#This Row],[Uhrzeit bis]]),ISBLANK(Tabelle1[[#This Row],[bisherige verkaufsoffene Nächte]]),ISBLANK(Tabelle1[[#This Row],[Anzeigedatum]]),ISBLANK(Tabelle1[[#This Row],[Form der Anzeige]])),0,1)) | J14: =IF(I14="","",IFERROR(VLOOKUP(I14,Gemeindeverzeichnis!$P$2:$Q$2188,2,FALSE),"Ort bitte manuell eintragen")) | P14: =IF(O14="","",IFERROR(VLOOKUP(O14,Gemeindeverzeichnis!$P$2:$Q$2188,2,FALSE),"Ort bitte manuell eintragen")) | AH14: =YEAR(V14) -> 1900 | AI14: =IF(Tabelle1[[#This Row],[Uhrzeit von]]="","",Tabelle1[[#This Row],[Uhrzeit bis]]-Tabelle1[[#This Row],[Uhrzeit von]])
A15: =IF(Tabelle1[[#This Row],[Unternehmen]]="","",A14+1) | B15: =IF(Tabelle1[[#This Row],['#]]="","",IF(OR(ISBLANK(Tabelle1[[#This Row],[betrieblicher Schwerpunkt]]),ISBLANK(Tabelle1[[#This Row],[PLZ]]),ISBLANK(Tabelle1[[#This Row],[Name der Verkaufsstelle]]),ISBLANK(Tabelle1[[#This Row],[Straße ]]),ISBLANK(Tabelle1[[#This Row],[Hausnummer ]]),ISBLANK(Tabelle1[[#This Row],[PLZ ]]),ISBLANK(Tabelle1[[#This Row],[Datum]]),ISBLANK(Tabelle1[[#This Row],[Uhrzeit von]]),ISBLANK(Tabelle1[[#This Row],[Uhrzeit bis]]),ISBLANK(Tabelle1[[#This Row],[bisherige verkaufsoffene Nächte]]),ISBLANK(Tabelle1[[#This Row],[Anzeigedatum]]),ISBLANK(Tabelle1[[#This Row],[Form der Anzeige]])),0,1)) | J15: =IF(I15="","",IFERROR(VLOOKUP(I15,Gemeindeverzeichnis!$P$2:$Q$2188,2,FALSE),"Ort bitte manuell eintragen")) | P15: =IF(O15="","",IFERROR(VLOOKUP(O15,Gemeindeverzeichnis!$P$2:$Q$2188,2,FALSE),"Ort bitte manuell eintragen")) | AH15: =YEAR(V15) -> 1900 | AI15: =IF(Tabelle1[[#This Row],[Uhrzeit von]]="","",Tabelle1[[#This Row],[Uhrzeit bis]]-Tabelle1[[#This Row],[Uhrzeit von]])
A16: =IF(Tabelle1[[#This Row],[Unternehmen]]="","",A15+1) | B16: =IF(Tabelle1[[#This Row],['#]]="","",IF(OR(ISBLANK(Tabelle1[[#This Row],[betrieblicher Schwerpunkt]]),ISBLANK(Tabelle1[[#This Row],[PLZ]]),ISBLANK(Tabelle1[[#This Row],[Name der Verkaufsstelle]]),ISBLANK(Tabelle1[[#This Row],[Straße ]]),ISBLANK(Tabelle1[[#This Row],[Hausnummer ]]),ISBLANK(Tabelle1[[#This Row],[PLZ ]]),ISBLANK(Tabelle1[[#This Row],[Datum]]),ISBLANK(Tabelle1[[#This Row],[Uhrzeit von]]),ISBLANK(Tabelle1[[#This Row],[Uhrzeit bis]]),ISBLANK(Tabelle1[[#This Row],[bisherige verkaufsoffene Nächte]]),ISBLANK(Tabelle1[[#This Row],[Anzeigedatum]]),ISBLANK(Tabelle1[[#This Row],[Form der Anzeige]])),0,1)) | J16: =IF(I16="","",IFERROR(VLOOKUP(I16,Gemeindeverzeichnis!$P$2:$Q$2188,2,FALSE),"Ort bitte manuell eintragen")) | P16: =IF(O16="","",IFERROR(VLOOKUP(O16,Gemeindeverzeichnis!$P$2:$Q$2188,2,FALSE),"Ort bitte manuell eintragen")) | AH16: =YEAR(V16) -> 1900 | AI16: =IF(Tabelle1[[#This Row],[Uhrzeit von]]="","",Tabelle1[[#This Row],[Uhrzeit bis]]-Tabelle1[[#This Row],[Uhrzeit von]])
A17: =IF(Tabelle1[[#This Row],[Unternehmen]]="","",A16+1) | B17: =IF(Tabelle1[[#This Row],['#]]="","",IF(OR(ISBLANK(Tabelle1[[#This Row],[betrieblicher Schwerpunkt]]),ISBLANK(Tabelle1[[#This Row],[PLZ]]),ISBLANK(Tabelle1[[#This Row],[Name der Verkaufsstelle]]),ISBLANK(Tabelle1[[#This Row],[Straße ]]),ISBLANK(Tabelle1[[#This Row],[Hausnummer ]]),ISBLANK(Tabelle1[[#This Row],[PLZ ]]),ISBLANK(Tabelle1[[#This Row],[Datum]]),ISBLANK(Tabelle1[[#This Row],[Uhrzeit von]]),ISBLANK(Tabelle1[[#This Row],[Uhrzeit bis]]),ISBLANK(Tabelle1[[#This Row],[bisherige verkaufsoffene Nächte]]),ISBLANK(Tabelle1[[#This Row],[Anzeigedatum]]),ISBLANK(Tabelle1[[#This Row],[Form der Anzeige]])),0,1)) | J17: =IF(I17="","",IFERROR(VLOOKUP(I17,Gemeindeverzeichnis!$P$2:$Q$2188,2,FALSE),"Ort bitte manuell eintragen")) | P17: =IF(O17="","",IFERROR(VLOOKUP(O17,Gemeindeverzeichnis!$P$2:$Q$2188,2,FALSE),"Ort bitte manuell eintragen")) | AH17: =YEAR(V17) -> 1900 | AI17: =IF(Tabelle1[[#This Row],[Uhrzeit von]]="","",Tabelle1[[#This Row],[Uhrzeit bis]]-Tabelle1[[#This Row],[Uhrzeit von]])
A18: =IF(Tabelle1[[#This Row],[Unternehmen]]="","",A17+1) | B18: =IF(Tabelle1[[#This Row],['#]]="","",IF(OR(ISBLANK(Tabelle1[[#This Row],[betrieblicher Schwerpunkt]]),ISBLANK(Tabelle1[[#This Row],[PLZ]]),ISBLANK(Tabelle1[[#This Row],[Name der Verkaufsstelle]]),ISBLANK(Tabelle1[[#This Row],[Straße ]]),ISBLANK(Tabelle1[[#This Row],[Hausnummer ]]),ISBLANK(Tabelle1[[#This Row],[PLZ ]]),ISBLANK(Tabelle1[[#This Row],[Datum]]),ISBLANK(Tabelle1[[#This Row],[Uhrzeit von]]),ISBLANK(Tabelle1[[#This Row],[Uhrzeit bis]]),ISBLANK(Tabelle1[[#This Row],[bisherige verkaufsoffene Nächte]]),ISBLANK(Tabelle1[[#This Row],[Anzeigedatum]]),ISBLANK(Tabelle1[[#This Row],[Form der Anzeige]])),0,1)) | J18: =IF(I18="","",IFERROR(VLOOKUP(I18,Gemeindeverzeichnis!$P$2:$Q$2188,2,FALSE),"Ort bitte manuell eintragen")) | P18: =IF(O18="","",IFERROR(VLOOKUP(O18,Gemeindeverzeichnis!$P$2:$Q$2188,2,FALSE),"Ort bitte manuell eintragen")) | AH18: =YEAR(V18) -> 1900 | AI18: =IF(Tabelle1[[#This Row],[Uhrzeit von]]="","",Tabelle1[[#This Row],[Uhrzeit bis]]-Tabelle1[[#This Row],[Uhrzeit von]])
A19: =IF(Tabelle1[[#This Row],[Unternehmen]]="","",A18+1) | B19: =IF(Tabelle1[[#This Row],['#]]="","",IF(OR(ISBLANK(Tabelle1[[#This Row],[betrieblicher Schwerpunkt]]),ISBLANK(Tabelle1[[#This Row],[PLZ]]),ISBLANK(Tabelle1[[#This Row],[Name der Verkaufsstelle]]),ISBLANK(Tabelle1[[#This Row],[Straße ]]),ISBLANK(Tabelle1[[#This Row],[Hausnummer ]]),ISBLANK(Tabelle1[[#This Row],[PLZ ]]),ISBLANK(Tabelle1[[#This Row],[Datum]]),ISBLANK(Tabelle1[[#This Row],[Uhrzeit von]]),ISBLANK(Tabelle1[[#This Row],[Uhrzeit bis]]),ISBLANK(Tabelle1[[#This Row],[bisherige verkaufsoffene Nächte]]),ISBLANK(Tabelle1[[#This Row],[Anzeigedatum]]),ISBLANK(Tabelle1[[#This Row],[Form der Anzeige]])),0,1)) | J19: =IF(I19="","",IFERROR(VLOOKUP(I19,Gemeindeverzeichnis!$P$2:$Q$2188,2,FALSE),"Ort bitte manuell eintragen")) | P19: =IF(O19="","",IFERROR(VLOOKUP(O19,Gemeindeverzeichnis!$P$2:$Q$2188,2,FALSE),"Ort bitte manuell eintragen")) | AH19: =YEAR(V19) -> 1900 | AI19: =IF(Tabelle1[[#This Row],[Uhrzeit von]]="","",Tabelle1[[#This Row],[Uhrzeit bis]]-Tabelle1[[#This Row],[Uhrzeit von]])
A20: =IF(Tabelle1[[#This Row],[Unternehmen]]="","",A19+1) | B20: =IF(Tabelle1[[#This Row],['#]]="","",IF(OR(ISBLANK(Tabelle1[[#This Row],[betrieblicher Schwerpunkt]]),ISBLANK(Tabelle1[[#This Row],[PLZ]]),ISBLANK(Tabelle1[[#This Row],[Name der Verkaufsstelle]]),ISBLANK(Tabelle1[[#This Row],[Straße ]]),ISBLANK(Tabelle1[[#This Row],[Hausnummer ]]),ISBLANK(Tabelle1[[#This Row],[PLZ ]]),ISBLANK(Tabelle1[[#This Row],[Datum]]),ISBLANK(Tabelle1[[#This Row],[Uhrzeit von]]),ISBLANK(Tabelle1[[#This Row],[Uhrzeit bis]]),ISBLANK(Tabelle1[[#This Row],[bisherige verkaufsoffene Nächte]]),ISBLANK(Tabelle1[[#This Row],[Anzeigedatum]]),ISBLANK(Tabelle1[[#This Row],[Form der Anzeige]])),0,1)) | J20: =IF(I20="","",IFERROR(VLOOKUP(I20,Gemeindeverzeichnis!$P$2:$Q$2188,2,FALSE),"Ort bitte manuell eintragen")) | P20: =IF(O20="","",IFERROR(VLOOKUP(O20,Gemeindeverzeichnis!$P$2:$Q$2188,2,FALSE),"Ort bitte manuell eintragen")) | AH20: =YEAR(V20) -> 1900 | AI20: =IF(Tabelle1[[#This Row],[Uhrzeit von]]="","",Tabelle1[[#This Row],[Uhrzeit bis]]-Tabelle1[[#This Row],[Uhrzeit von]])
A21: =IF(Tabelle1[[#This Row],[Unternehmen]]="","",A20+1) | B21: =IF(Tabelle1[[#This Row],['#]]="","",IF(OR(ISBLANK(Tabelle1[[#This Row],[betrieblicher Schwerpunkt]]),ISBLANK(Tabelle1[[#This Row],[PLZ]]),ISBLANK(Tabelle1[[#This Row],[Name der Verkaufsstelle]]),ISBLANK(Tabelle1[[#This Row],[Straße ]]),ISBLANK(Tabelle1[[#This Row],[Hausnummer ]]),ISBLANK(Tabelle1[[#This Row],[PLZ ]]),ISBLANK(Tabelle1[[#This Row],[Datum]]),ISBLANK(Tabelle1[[#This Row],[Uhrzeit von]]),ISBLANK(Tabelle1[[#This Row],[Uhrzeit bis]]),ISBLANK(Tabelle1[[#This Row],[bisherige verkaufsoffene Nächte]]),ISBLANK(Tabelle1[[#This Row],[Anzeigedatum]]),ISBLANK(Tabelle1[[#This Row],[Form der Anzeige]])),0,1)) | J21: =IF(I21="","",IFERROR(VLOOKUP(I21,Gemeindeverzeichnis!$P$2:$Q$2188,2,FALSE),"Ort bitte manuell eintragen")) | P21: =IF(O21="","",IFERROR(VLOOKUP(O21,Gemeindeverzeichnis!$P$2:$Q$2188,2,FALSE),"Ort bitte manuell eintragen")) | AH21: =YEAR(V21) -> 1900 | AI21: =IF(Tabelle1[[#This Row],[Uhrzeit von]]="","",Tabelle1[[#This Row],[Uhrzeit bis]]-Tabelle1[[#This Row],[Uhrzeit von]])
A22: =IF(Tabelle1[[#This Row],[Unternehmen]]="","",A21+1) | B22: =IF(Tabelle1[[#This Row],['#]]="","",IF(OR(ISBLANK(Tabelle1[[#This Row],[betrieblicher Schwerpunkt]]),ISBLANK(Tabelle1[[#This Row],[PLZ]]),ISBLANK(Tabelle1[[#This Row],[Name der Verkaufsstelle]]),ISBLANK(Tabelle1[[#This Row],[Straße ]]),ISBLANK(Tabelle1[[#This Row],[Hausnummer ]]),ISBLANK(Tabelle1[[#This Row],[PLZ ]]),ISBLANK(Tabelle1[[#This Row],[Datum]]),ISBLANK(Tabelle1[[#This Row],[Uhrzeit von]]),ISBLANK(Tabelle1[[#This Row],[Uhrzeit bis]]),ISBLANK(Tabelle1[[#This Row],[bisherige verkaufsoffene Nächte]]),ISBLANK(Tabelle1[[#This Row],[Anzeigedatum]]),ISBLANK(Tabelle1[[#This Row],[Form der Anzeige]])),0,1)) | J22: =IF(I22="","",IFERROR(VLOOKUP(I22,Gemeindeverzeichnis!$P$2:$Q$2188,2,FALSE),"Ort bitte manuell eintragen")) | P22: =IF(O22="","",IFERROR(VLOOKUP(O22,Gemeindeverzeichnis!$P$2:$Q$2188,2,FALSE),"Ort bitte manuell eintragen")) | AH22: =YEAR(V22) -> 1900 | AI22: =IF(Tabelle1[[#This Row],[Uhrzeit von]]="","",Tabelle1[[#This Row],[Uhrzeit bis]]-Tabelle1[[#This Row],[Uhrzeit von]])
A23: =IF(Tabelle1[[#This Row],[Unternehmen]]="","",A22+1) | B23: =IF(Tabelle1[[#This Row],['#]]="","",IF(OR(ISBLANK(Tabelle1[[#This Row],[betrieblicher Schwerpunkt]]),ISBLANK(Tabelle1[[#This Row],[PLZ]]),ISBLANK(Tabelle1[[#This Row],[Name der Verkaufsstelle]]),ISBLANK(Tabelle1[[#This Row],[Straße ]]),ISBLANK(Tabelle1[[#This Row],[Hausnummer ]]),ISBLANK(Tabelle1[[#This Row],[PLZ ]]),ISBLANK(Tabelle1[[#This Row],[Datum]]),ISBLANK(Tabelle1[[#This Row],[Uhrzeit von]]),ISBLANK(Tabelle1[[#This Row],[Uhrzeit bis]]),ISBLANK(Tabelle1[[#This Row],[bisherige verkaufsoffene Nächte]]),ISBLANK(Tabelle1[[#This Row],[Anzeigedatum]]),ISBLANK(Tabelle1[[#This Row],[Form der Anzeige]])),0,1)) | J23: =IF(I23="","",IFERROR(VLOOKUP(I23,Gemeindeverzeichnis!$P$2:$Q$2188,2,FALSE),"Ort bitte manuell eintragen")) | P23: =IF(O23="","",IFERROR(VLOOKUP(O23,Gemeindeverzeichnis!$P$2:$Q$2188,2,FALSE),"Ort bitte manuell eintragen")) | AH23: =YEAR(V23) -> 1900 | AI23: =IF(Tabelle1[[#This Row],[Uhrzeit von]]="","",Tabelle1[[#This Row],[Uhrzeit bis]]-Tabelle1[[#This Row],[Uhrzeit von]])
... A1010: =IF(Tabelle1[[#This Row],[Unternehmen]]="","",A1009+1) | B1010: =IF(Tabelle1[[#This Row],['#]]="","",IF(OR(ISBLANK(Tabelle1[[#This Row],[betrieblicher Schwerpunkt]]),ISBLANK(Tabelle1[[#This Row],[PLZ]]),ISBLANK(Tabelle1[[#This Row],[Name der Verkaufsstelle]]),ISBLANK(Tabelle1[[#This Row],[Straße ]]),ISBLANK(Tabelle1[[#This Row],[Hausnummer ]]),ISBLANK(Tabelle1[[#This Row],[PLZ ]]),ISBLANK(Tabelle1[[#This Row],[Datum]]),ISBLANK(Tabelle1[[#This Row],[Uhrzeit von]]),ISBLANK(Tabelle1[[#This Row],[Uhrzeit bis]]),ISBLANK(Tabelle1[[#This Row],[bisherige verkaufsoffene Nächte]]),ISBLANK(Tabelle1[[#This Row],[Anzeigedatum]]),ISBLANK(Tabelle1[[#This Row],[Form der Anzeige]])),0,1)) | J1010: =IF(I1010="","",IFERROR(VLOOKUP(I1010,Gemeindeverzeichnis!$P$2:$Q$2188,2,FALSE),"Ort bitte manuell eintragen")) | P1010: =IF(O1010="","",IFERROR(VLOOKUP(O1010,Gemeindeverzeichnis!$P$2:$Q$2188,2,FALSE),"Ort bitte manuell eintragen")) | AH1010: =YEAR(V1010) -> 1900 | AI1010: =IF(Tabelle1[[#This Row],[Uhrzeit von]]="","",Tabelle1[[#This Row],[Uhrzeit bis]]-Tabelle1[[#This Row],[Uhrzeit von]])

Sheet Auswahlfelder
B1: Betrieblicher Schwerpunkt | C1: Uhrzeit von | D1: Uhrzeit bis | E1: bisherige verkaufsoffene Nächte | F1: Form der Anzeige
B2: Nahrungs- und Genussmittel | C2: 0.83333333 | D2: 0.85416667 | E2: 0 | F2: BayernPortal
B3: Bekleidung, Schuhe, Accessoires | C3: 0.85416667 | D3: 0.875 | E3: 1 | F3: eigenes Formular
B4: Schmuck, Uhren | C4: 0.875 | D4: 0.89583333 | E4: 2 | F4: per Schreiben
B5: Kosmetik-, Drogerie- und Pflegeartikel | C5: 0.89583333 | D5: 0.91666667 | E5: 3 | F5: per E-Mail
B6: Freizeit- und Sportartikel, Spielwaren | C6: 0.91666667 | D6: 0.9375 | F6: telefonisch / mündlich
B7: Bücher, Presseerzeugnisse, Medien, Schreibwaren | C7: 0.9375 | D7: 0.95833333
B8: Technik-, Elektro- und Telekommunikationsartikel | C8: 0.95833333 | D8: 0.97916667
B9: Bau-, Garten und Handwerksartikel, Blumen, Haustierbedarf | C9: 0.97916667 | D9: 1
B10: Möbel, Einrichtungs-, Deko- und Geschenkartikel
B11: Fahrzeuge
B12: => sonstiger betrieblicher Schwerpunkt

Sheet Erläuterungen
A1: Erläuterungen:
A3: Individuelle verkaufsoffene Nächte an Werktagen
A4: Inhaberinnen und Inhaber einer Verkaufsstelle können nach Art. 7 Abs. 3 BayLadSchlG (zusätzlich zu den bis zu acht gemeindeweiten verkaufsoffenen Nächten an Werktagen, Art. 7 Abs. 1 BayLadSchlG) pro Kalenderjahr bis zu vier individuelle verkaufsoffene Nächte an Werktagen von 20:00 Uhr bis höchstens 24:00 Uhr durchführen.
A5: Die hierfür nach Art. 7 Abs. 3 S. 2 BayLadSchlG notwendige Anzeige muss spätestens zwei Wochen vor der geplanten Öffnung der Verkaufsstelle bei der zuständigen Gemeinde erfolgen. Örtlich zuständig ist die Gemeinde, in der sich die jeweilige Verkaufsstelle befindet, Art. 3 Abs. 1 BayVwVfG. Für die Anzeige der individuellen verkaufsoffenen Nächte an Werktagen gibt es bis auf die Frist von zwei Wochen (zu berechnen als Rückwärtsfrist) und die Anzeige bei der zuständigen Gemeinde keine formellen Wirksamkeitsvoraussetzungen, insbesondere kein Formerfordernis.
A6: Individuelle verkaufsoffene Nächte können nur an Werktagen (Montag bis Samstag, keine Sonn- und Feiertage) und an diesen Tagen nur von 20.00 bis höchstens 24.00 Uhr durchgeführt werden. An den in Art. 7 Abs. 2 S. 1 BayLadSchlG genannten Tagen ist die Durchführung einer individuellen verkaufsoffenen Nacht ausgeschlossen: Aschermittwoch, Gründonnerstag, Karsamstag, Buß- und Bettag, Heiligabend und Silvester sowie der jeweilige Tag vor Pfingstsonntag, Allerheiligen, Volkstrauertag und Totensonntag.
A8: Evaluation
A9: Für die Gemeinden:
A10: Nach Art. 12 Abs. 5 BayLadSchlG ist nach Ablauf des 1. August 2027 eine Evaluation zu den Auswirkungen der individuellen Verkaufsoffenen Nächte an Werktagen nach Art. 7 Abs. 3 BayLadSchlG durchzuführen. Dazu sind die von den Gemeinden gesammelten Anzeigen der einzelnen Verkaufsstellen erforderlich. Die Anzeigedaten sind von jeder einzelnen Gemeinde in dieser Excel-Datei im Arbeitsblatt "Anzeigen verkaufsoffener Nächte" einzutragen (pro Gemeinde ist eine separate Datei zu führen).
A11: Im Arbeitsblatt "Anzeigen verkaufsoffener Nächte" füllen die Gemeinden die Zellen H5 bis L7 (orange markierte Pflichtfelder) mit den jeweiligen Einwohnerzahlen in der Gemeinde (Zellen H5 bis H7), der Anzahlen der Verkaufsstellen im Gemeindegebiet (Zellen I5 bis I7) und der Anzahl der durchgeführten gemeindeweiten verkaufsoffenen Nächte an Werktagen nach Art. 7 Abs. 1 BayLadSchlG (Zellen L5 bis L7) jeweils für den Zeitraum 01.08.2025 bis 31.12.2025 (= 2025), 01.01.2026 bis 31.12.2026 (= 2026) und 01.01.2027 bis 31.07.2027 (= 2027) aus. Stichtag ist der 31.12.2025, 31.12.2026 und 31.07.2027 (hinsichtlich Einwohnerzahl und Anzahl Verkaufsstellen 30.06.2027). Freiwillig können im Arbeitsblatt "Anzeigen verkaufsoffener Nächte" im Freitextfeld in der Zelle D5 Erfahrungswerte und sonstige Rückmeldungen zu den individuellen und gemeindeweiten verkaufsoffenen Nächten an Werktagen mitgeteilt werden, die ggf. in der Evaluation zu berücksichtigen wären.
A12: Die Daten der einzelnen Anzeigen der individuellen verkaufsoffenen Nächte werden in dieser Excel-Datei im Arbeitsblatt "Auswertung" automatisch in einer einzelnen Zeile (Zeile 5) für jede Gemeinde ausgewertet. Die weiteren Angaben der Gemeinde aus dem Arbeitsblatt "Anzeigen verkaufsoffenser Nächte" werden hier ebenfalls übertragen.
A13: Ab dem August 2027 beginnt die Evaluation. Die Gemeinden senden dazu den Inhalt der gesamten Zeile 5 im Arbeitsblatt "Auswertung" auf Anforderung an ihr jeweiliges Landratsamt bzw. im Fall von kreisfreien Städten an die jeweilige Regierung. Anleitung: Dazu muss im Arbeitsblatt "Auswertung" die gesamte Zeile 5 durch Klick auf die Zeilennummer (am linken Fensterrand) markiert, mittels "Strg + C" kopiert und in eine neue Excel-Datei mit Rechtsklick -> Einfügeoptionen -> Werte (keine Übernahme der Formeln, sondern der Zellenwerte) eingefügt werden. Diese neue Excel-Datei ist sodann der Kreisverwaltungsbehörde bzw. Regierung zuzuleiten.
A15: Für die Landratsämter:
... A21: Das StMAS wird im Juni/Juli 2027 den Regierungen, Landratsämtern und Gemeinden den genauen Zeitplan für die Abfrage der Daten mitteilen.

Sheet Auswertung
D1: Einwohnerzahl gesamt | G1: Verkaufsstellen gesamt | J1: Anzahl gemeindeweite verkaufsoffene Nächte | M1: Anzahl individuelle verkaufsoffene Nächte | Q1: an individuellen verkaufsoffenen Nächten beteiligte Verkaufsstellen | AC1: Verteilung betriebliche Schwerpunkte | BG1: Verteilung Uhrzeiten (Ladenöffnung) | CE1: Verteilung Uhrzeiten (Ladenschluss) | DC1: Verteilung Uhrzeiten (Ø-Öffnungsdauer) | DF1: Verteilung Anzeigekanäle
A2: Gemeinde | B2: Landkreis | C2: Regierungsbezirk | Q2: mit mindestens einer Öffnung | T2: mit mindestens zwei Öffnungen | W2: mit mindestens drei Öffnungen | Z2: mit vier Öffnungen | AC2: =Auswahlfelder!B2 -> Nahrungs- und Genussmittel | AF2: =Auswahlfelder!B3 -> Bekleidung, Schuhe, Accessoires | AI2: =Auswahlfelder!B4 -> Schmuck, Uhren | AL2: =Auswahlfelder!B5 -> Kosmetik-, Drogerie- und Pflegeartikel | AO2: =Auswahlfelder!B6 -> Freizeit- und Sportartikel, Spielwaren | AR2: =Auswahlfelder!B7 -> Bücher, Presseerzeugnisse, Medien, Schreibwaren | AU2: =Auswahlfelder!B8 -> Technik-, Elektro- und Telekommunikationsartikel | AX2: =Auswahlfelder!B9 -> Bau-, Garten und Handwerksartikel, Blumen, Haustierbedarf | BA2: =Auswahlfelder!B11 -> Fahrzeuge | BD2: =Auswahlfelder!B12 -> => sonstiger betrieblicher Schwerpunkt | BG2: Ladenöffnung: 20:00 Uhr | BJ2: Ladenöffnung: 20:30 Uhr | BM2: Ladenöffnung: 21:00 Uhr | BP2: Ladenöffnung: 21:30 Uhr | BS2: Ladenöffnung: 22:00 Uhr | BV2: Ladenöffnung: 22:30 Uhr | BY2: Ladenöffnung: 23:00 Uhr | CB2: Ladenöffnung: 23:30 Uhr | CE2: Ladenschluss: 20:30 Uhr | CH2: Ladenschluss: 21:00 Uhr | CK2: Ladenschluss: 21:30 Uhr | CN2: Ladenschluss: 22:00 Uhr | CQ2: Ladenschluss: 22:30 Uhr | CT2: Ladenschluss: 23:00 Uhr | CW2: Ladenschluss: 23:30 Uhr | CZ2: Ladenschluss: 24:00 Uhr | DF2: =Auswahlfelder!F2 -> BayernPortal | DI2: =Auswahlfelder!F3 -> eigenes Formular | DL2: =Auswahlfelder!F4 -> per Schreiben | DO2: =Auswahlfelder!F5 -> per E-Mail | DR2: =Auswahlfelder!F6 -> telefonisch / mündlich | DU2: freiwillige Rückmeldung im Rahmen der Evaluation zum 1. August 2027, vgl. Arbeitsblatt "Erläuterungen"
D3: 2025 | E3: 2026 | F3: 2027 | G3: 2025 | H3: 2026 | I3: 2027 | J3: 2025 | K3: 2026 | L3: 2027 | M3: gesamt | N3: 2025 | O3: 2026 | P3: 2027 | Q3: 2025 | R3: 2026 | S3: 2027 | T3: 2025 | U3: 2026 | V3: 2027 | W3: 2025 | X3: 2026 | Y3: 2027 | Z3: 2025 | AA3: 2026 | AB3: 2027 | AC3: 2025 | AD3: 2026 | AE3: 2027 | AF3: 2025 | AG3: 2026 | AH3: 2027 | AI3: 2025 | AJ3: 2026 | AK3: 2027 | AL3: 2025 | AM3: 2026 | AN3: 2027 | AO3: 2025 | AP3: 2026 | AQ3: 2027 | AR3: 2025 | AS3: 2026 | AT3: 2027 | AU3: 2025 | AV3: 2026 | AW3: 2027 | AX3: 2025 | AY3: 2026 | AZ3: 2027 | BA3: 2025 | BB3: 2026 | BC3: 2027 | BD3: 2025 | BE3: 2026 | BF3: 2027 | BG3: 2025 | BH3: 2026 | BI3: 2027 | BJ3: 2025 | BK3: 2026 | BL3: 2027 | BM3: 2025 | BN3: 2026 | BO3: 2027 | BP3: 2025 | BQ3: 2026 | BR3: 2027 | BS3: 2025 | BT3: 2026 | BU3: 2027 | BV3: 2025 | BW3: 2026 | BX3: 2027 | BY3: 2025 | BZ3: 2026 | CA3: 2027 | CB3: 2025 | CC3: 2026 | CD3: 2027 | CE3: 2025 | CF3: 2026 | CG3: 2027 | CH3: 2025 | CI3: 2026 | CJ3: 2027 | CK3: 2025 | CL3: 2026 | CM3: 2027 | CN3: 2025 | CO3: 2026 | CP3: 2027 | CQ3: 2025 | CR3: 2026 | CS3: 2027 | CT3: 2025 | CU3: 2026 | CV3: 2027 | CW3: 2025 | CX3: 2026 | CY3: 2027 | CZ3: 2025 | DA3: 2026 | DB3: 2027 | DC3: 2025 | DD3: 2026 | DE3: 2027 | DF3: 2025 | DG3: 2026 | DH3: 2027 | DI3: 2025 | DJ3: 2026 | DK3: 2027 | DL3: 2025 | DM3: 2026 | DN3: 2027 | DO3: 2025 | DP3: 2026 | DQ3: 2027 | DR3: 2025 | DS3: 2026 | DT3: 2027
A5: ='Anzeigen verkaufsoffener Nächte'!G2 -> 0 | B5: ='Anzeigen verkaufsoffener Nächte'!N2 -> bitte Stadt / Markt / Gemeinde suchen | C5: ='Anzeigen verkaufsoffener Nächte'!L2 -> bitte Stadt / Markt / Gemeinde suchen | D5: ='Anzeigen verkaufsoffener Nächte'!$H$5 -> 0 | E5: ='Anzeigen verkaufsoffener Nächte'!$H$6 -> 0 | F5: ='Anzeigen verkaufsoffener Nächte'!$H$7 -> 0 | G5: ='Anzeigen verkaufsoffener Nächte'!$J$5 -> 0 | H5: ='Anzeigen verkaufsoffener Nächte'!$J$6 -> 0 | I5: ='Anzeigen verkaufsoffener Nächte'!$J$7 -> 0 | J5: ='Anzeigen verkaufsoffener Nächte'!$L$5 -> 0 | K5: ='Anzeigen verkaufsoffener Nächte'!$L$6 -> 0 | L5: ='Anzeigen verkaufsoffener Nächte'!$L$7 -> 0 | M5: =N5+O5+P5 -> 0 | N5: =COUNTIF('Anzeigen verkaufsoffener Nächte'!$AH:$AH,"2025") -> 0 | O5: =COUNTIF('Anzeigen verkaufsoffener Nächte'!$AH:$AH,"2026") -> 0 | P5: =COUNTIF('Anzeigen verkaufsoffener Nächte'!$AH:$AH,"2027") -> 0 | Q5: =COUNTIFS('Anzeigen verkaufsoffener Nächte'!$Z:$Z,0,'Anzeigen verkaufsoffener Nächte'!$AH:$AH,2025) -> 0 | R5: =COUNTIFS('Anzeigen verkaufsoffener Nächte'!$Z:$Z,0,'Anzeigen verkaufsoffener Nächte'!$AH:$AH,2026) -> 0 | S5: =COUNTIFS('Anzeigen verkaufsoffener Nächte'!$Z:$Z,0,'Anzeigen verkaufsoffener Nächte'!$AH:$AH,2027) -> 0 | T5: =COUNTIFS('Anzeigen verkaufsoffener Nächte'!$Z:$Z,1,'Anzeigen verkaufsoffener Nächte'!$AH:$AH,2025) -> 0 | U5: =COUNTIFS('Anzeigen verkaufsoffener Nächte'!$Z:$Z,1,'Anzeigen verkaufsoffener Nächte'!$AH:$AH,2026) -> 0 | V5: =COUNTIFS('Anzeigen verkaufsoffener Nächte'!$Z:$Z,1,'Anzeigen verkaufsoffener Nächte'!$AH:$AH,2027) -> 0 | W5: =COUNTIFS('Anzeigen verkaufsoffener Nächte'!$Z:$Z,2,'Anzeigen verkaufsoffener Nächte'!$AH:$AH,2025) -> 0 | X5: =COUNTIFS('Anzeigen verkaufsoffener Nächte'!$Z:$Z,2,'Anzeigen verkaufsoffener Nächte'!$AH:$AH,2026) -> 0 | Y5: =COUNTIFS('Anzeigen verkaufsoffener Nächte'!$Z:$Z,2,'Anzeigen verkaufsoffener Nächte'!$AH:$AH,2027) -> 0 | Z5: =COUNTIFS('Anzeigen verkaufsoffener Nächte'!$Z:$Z,3,'Anzeigen verkaufsoffener Nächte'!$AH:$AH,2025) -> 0 | AA5: =COUNTIFS('Anzeigen verkaufsoffener Nächte'!$Z:$Z,3,'Anzeigen verkaufsoffener Nächte'!$AH:$AH,2026) -> 0 | AB5: =COUNTIFS('Anzeigen verkaufsoffener Nächte'!$Z:$Z,3,'Anzeigen verkaufsoffener Nächte'!$AH:$AH,2027) -> 0 | AC5: =COUNTIFS('Anzeigen verkaufsoffener Nächte'!$E:$E,AC2,'Anzeigen verkaufsoffener Nächte'!$AH:$AH,2025) -> 0 | AD5: =COUNTIFS('Anzeigen verkaufsoffener Nächte'!$E:$E,AC2,'Anzeigen verkaufsoffener Nächte'!$AH:$AH,2026) -> 0 | AE5: =COUNTIFS('Anzeigen verkaufsoffener Nächte'!$E:$E,AC2,'Anzeigen verkaufsoffener Nächte'!$AH:$AH,2027) -> 0 | AF5: =COUNTIFS('Anzeigen verkaufsoffener Nächte'!$E:$E,AF2,'Anzeigen verkaufsoffener Nächte'!$AH:$AH,2025) -> 0 | AG5: =COUNTIFS('Anzeigen verkaufsoffener Nächte'!$E:$E,AF2,'Anzeigen verkaufsoffener Nächte'!$AH:$AH,2026) -> 0 | AH5: =COUNTIFS('Anzeigen verkaufsoffener Nächte'!$E:$E,AF2,'Anzeigen verkaufsoffener Nächte'!$AH:$AH,2027) -> 0 | AI5: =COUNTIFS('Anzeigen verkaufsoffener Nächte'!$E:$E,AI2,'Anzeigen verkaufsoffener Nächte'!$AH:$AH,2025) -> 0 | AJ5: =COUNTIFS('Anzeigen verkaufsoffener Nächte'!$E:$E,AI2,'Anzeigen verkaufsoffener Nächte'!$AH:$AH,2026) -> 0 | AK5: =COUNTIFS('Anzeigen verkaufsoffener Nächte'!$E:$E,AI2,'Anzeigen verkaufsoffener Nächte'!$AH:$AH,2027) -> 0 | AL5: =COUNTIFS('Anzeigen verkaufsoffener Nächte'!$E:$E,AL2,'Anzeigen verkaufsoffener Nächte'!$AH:$AH,2025) -> 0 | AM5: =COUNTIFS('Anzeigen verkaufsoffener Nächte'!$E:$E,AL2,'Anzeigen verkaufsoffener Nächte'!$AH:$AH,2026) -> 0 | AN5: =COUNTIFS('Anzeigen verkaufsoffener Nächte'!$E:$E,AL2,'Anzeigen verkaufsoffener Nächte'!$AH:$AH,2027) -> 0 | AO5: =COUNTIFS('Anzeigen verkaufsoffener Nächte'!$E:$E,AO2,'Anzeigen verkaufsoffener Nächte'!$AH:$AH,2025) -> 0 | AP5: =COUNTIFS('Anzeigen verkaufsoffener Nächte'!$E:$E,AO2,'Anzeigen verkaufsoffener Nächte'!$AH:$AH,2026) -> 0 | AQ5: =COUNTIFS('Anzeigen verkaufsoffener Nächte'!$E:$E,AO2,'Anzeigen verkaufsoffener Nächte'!$AH:$AH,2027) -> 0 | AR5: =COUNTIFS('Anzeigen verkaufsoffener Nächte'!$E:$E,AR2,'Anzeigen verkaufsoffener Nächte'!$AH:$AH,2025) -> 0 | AS5: =COUNTIFS('Anzeigen verkaufsoffener Nächte'!$E:$E,AR2,'Anzeigen verkaufsoffener Nächte'!$AH:$AH,2026) -> 0 | AT5: =COUNTIFS('Anzeigen verkaufsoffener Nächte'!$E:$E,AR2,'Anzeigen verkaufsoffener Nächte'!$AH:$AH,2027) -> 0 | AU5: =COUNTIFS('Anzeigen verkaufsoffener Nächte'!$E:$E,AU2,'Anzeigen verkaufsoffener Nächte'!$AH:$AH,2025) -> 0 | AV5: =COUNTIFS('Anzeigen verkaufsoffener Nächte'!$E:$E,AU2,'Anzeigen verkaufsoffener Nächte'!$AH:$AH,2026) -> 0 | AW5: =COUNTIFS('Anzeigen verkaufsoffener Nächte'!$E:$E,AU2,'Anzeigen verkaufsoffener Nächte'!$AH:$AH,2027) -> 0 | AX5: =COUNTIFS('Anzeigen verkaufsoffener Nächte'!$E:$E,AX2,'Anzeigen verkaufsoffener Nächte'!$AH:$AH,2025) -> 0 | AY5: =COUNTIFS('Anzeigen verkaufsoffener Nächte'!$E:$E,AX2,'Anzeigen verkaufsoffener Nächte'!$AH:$AH,2026) -> 0 | AZ5: =COUNTIFS('Anzeigen verkaufsoffener Nächte'!$E:$E,AX2,'Anzeigen verkaufsoffener Nächte'!$AH:$AH,2027) -> 0 | BA5: =COUNTIFS('Anzeigen verkaufsoffener Nächte'!$E:$E,BA2,'Anzeigen verkaufsoffener Nächte'!$AH:$AH,2025) -> 0 | BB5: =COUNTIFS('Anzeigen verkaufsoffener Nächte'!$E:$E,BA2,'Anzeigen verkaufsoffener Nächte'!$AH:$AH,2026) -> 0 | BC5: =COUNTIFS('Anzeigen verkaufsoffener Nächte'!$E:$E,BA2,'Anzeigen verkaufsoffener Nächte'!$AH:$AH,2027) -> 0 | BD5: =COUNTIFS('Anzeigen verkaufsoffener Nächte'!$E:$E,BD2,'Anzeigen verkaufsoffener Nächte'!$AH:$AH,2025) -> 0 | BE5: =COUNTIFS('Anzeigen verkaufsoffener Nächte'!$E:$E,BD2,'Anzeigen verkaufsoffener Nächte'!$AH:$AH,2026) -> 0 | BF5: =COUNTIFS('Anzeigen verkaufsoffener Nächte'!$E:$E,BD2,'Anzeigen verkaufsoffener Nächte'!$AH:$AH,2027) -> 0 | BG5: =COUNTIFS('Anzeigen verkaufsoffener Nächte'!$W:$W,"20:00",'Anzeigen verkaufsoffener Nächte'!$AH:$AH,2025) -> 0 | BH5: =COUNTIFS('Anzeigen verkaufsoffener Nächte'!$W:$W,"20:00",'Anzeigen verkaufsoffener Nächte'!$AH:$AH,2026) -> 0 | BI5: =COUNTIFS('Anzeigen verkaufsoffener Nächte'!$W:$W,"20:00",'Anzeigen verkaufsoffener Nächte'!$AH:$AH,2027) -> 0 | BJ5: =COUNTIFS('Anzeigen verkaufsoffener Nächte'!$W:$W,"20:30",'Anzeigen verkaufsoffener Nächte'!$AH:$AH,2025) -> 0 | BK5: =COUNTIFS('Anzeigen verkaufsoffener Nächte'!$W:$W,"20:30",'Anzeigen verkaufsoffener Nächte'!$AH:$AH,2026) -> 0 | BL5: =COUNTIFS('Anzeigen verkaufsoffener Nächte'!$W:$W,"20:30",'Anzeigen verkaufsoffener Nächte'!$AH:$AH,2027) -> 0 | BM5: =COUNTIFS('Anzeigen verkaufsoffener Nächte'!$W:$W,"21:00",'Anzeigen verkaufsoffener Nächte'!$AH:$AH,2025) -> 0 | BN5: =COUNTIFS('Anzeigen verkaufsoffener Nächte'!$W:$W,"21:00",'Anzeigen verkaufsoffener Nächte'!$AH:$AH,2026) -> 0 | BO5: =COUNTIFS('Anzeigen verkaufsoffener Nächte'!$W:$W,"21:00",'Anzeigen verkaufsoffener Nächte'!$AH:$AH,2027) -> 0 | BP5: =COUNTIFS('Anzeigen verkaufsoffener Nächte'!$W:$W,"21:30",'Anzeigen verkaufsoffener Nächte'!$AH:$AH,2025) -> 0 | BQ5: =COUNTIFS('Anzeigen verkaufsoffener Nächte'!$W:$W,"21:30",'Anzeigen verkaufsoffener Nächte'!$AH:$AH,2026) -> 0 | BR5: =COUNTIFS('Anzeigen verkaufsoffener Nächte'!$W:$W,"21:30",'Anzeigen verkaufsoffener Nächte'!$AH:$AH,2027) -> 0 | BS5: =COUNTIFS('Anzeigen verkaufsoffener Nächte'!$W:$W,"22:00",'Anzeigen verkaufsoffener Nächte'!$AH:$AH,2025) -> 0 | BT5: =COUNTIFS('Anzeigen verkaufsoffener Nächte'!$W:$W,"22:00",'Anzeigen verkaufsoffener Nächte'!$AH:$AH,2026) -> 0 | BU5: =COUNTIFS('Anzeigen verkaufsoffener Nächte'!$W:$W,"22:00",'Anzeigen verkaufsoffener Nächte'!$AH:$AH,2027) -> 0 | BV5: =COUNTIFS('Anzeigen verkaufsoffener Nächte'!$W:$W,"22:30",'Anzeigen verkaufsoffener Nächte'!$AH:$AH,2025) -> 0 | BW5: =COUNTIFS('Anzeigen verkaufsoffener Nächte'!$W:$W,"22:30",'Anzeigen verkaufsoffener Nächte'!$AH:$AH,2026) -> 0 | BX5: =COUNTIFS('Anzeigen verkaufsoffener Nächte'!$W:$W,"22:30",'Anzeigen verkaufsoffener Nächte'!$AH:$AH,2027) -> 0 | BY5: =COUNTIFS('Anzeigen verkaufsoffener Nächte'!$W:$W,"23:00",'Anzeigen verkaufsoffener Nächte'!$AH:$AH,2025) -> 0 | BZ5: =COUNTIFS('Anzeigen verkaufsoffener Nächte'!$W:$W,"23:00",'Anzeigen verkaufsoffener Nächte'!$AH:$AH,2026) -> 0 | CA5: =COUNTIFS('Anzeigen verkaufsoffener Nächte'!$W:$W,"23:00",'Anzeigen verkaufsoffener Nächte'!$AH:$AH,2027) -> 0 | CB5: =COUNTIFS('Anzeigen verkaufsoffener Nächte'!$W:$W,"23:30",'Anzeigen verkaufsoffener Nächte'!$AH:$AH,2025) -> 0 | CC5: =COUNTIFS('Anzeigen verkaufsoffener Nächte'!$W:$W,"23:30",'Anzeigen verkaufsoffener Nächte'!$AH:$AH,2026) -> 0 | CD5: =COUNTIFS('Anzeigen verkaufsoffener Nächte'!$W:$W,"23:30",'Anzeigen verkaufsoffener Nächte'!$AH:$AH,2027) -> 0 | CE5: =COUNTIFS('Anzeigen verkaufsoffener Nächte'!$X:$X,"20:30",'Anzeigen verkaufsoffener Nächte'!$AH:$AH,2025) -> 0 | CF5: =COUNTIFS('Anzeigen verkaufsoffener Nächte'!$X:$X,"20:30",'Anzeigen verkaufsoffener Nächte'!$AH:$AH,2026) -> 0 | CG5: =COUNTIFS('Anzeigen verkaufsoffener Nächte'!$X:$X,"20:30",'Anzeigen verkaufsoffener Nächte'!$AH:$AH,2027) -> 0 | CH5: =COUNTIFS('Anzeigen verkaufsoffener Nächte'!$X:$X,"21:00",'Anzeigen verkaufsoffener Nächte'!$AH:$AH,2025) -> 0 | CI5: =COUNTIFS('Anzeigen verkaufsoffener Nächte'!$X:$X,"21:00",'Anzeigen verkaufsoffener Nächte'!$AH:$AH,2026) -> 0 | CJ5: =COUNTIFS('Anzeigen verkaufsoffener Nächte'!$X:$X,"21:00",'Anzeigen verkaufsoffener Nächte'!$AH:$AH,2027) -> 0 | CK5: =COUNTIFS('Anzeigen verkaufsoffener Nächte'!$X:$X,"21:30",'Anzeigen verkaufsoffener Nächte'!$AH:$AH,2025) -> 0 | CL5: =COUNTIFS('Anzeigen verkaufsoffener Nächte'!$X:$X,"21:30",'Anzeigen verkaufsoffener Nächte'!$AH:$AH,2026) -> 0 | CM5: =COUNTIFS('Anzeigen verkaufsoffener Nächte'!$X:$X,"21:30",'Anzeigen verkaufsoffener Nächte'!$AH:$AH,2027) -> 0 | CN5: =COUNTIFS('Anzeigen verkaufsoffener Nächte'!$X:$X,"22:00",'Anzeigen verkaufsoffener Nächte'!$AH:$AH,2025) -> 0 | CO5: =COUNTIFS('Anzeigen verkaufsoffener Nächte'!$X:$X,"22:00",'Anzeigen verkaufsoffener Nächte'!$AH:$AH,2026) -> 0 | CP5: =COUNTIFS('Anzeigen verkaufsoffener Nächte'!$X:$X,"22:00",'Anzeigen verkaufsoffener Nächte'!$AH:$AH,2027) -> 0 | CQ5: =COUNTIFS('Anzeigen verkaufsoffener Nächte'!$X:$X,"22:30",'Anzeigen verkaufsoffener Nächte'!$AH:$AH,2025) -> 0 | CR5: =COUNTIFS('Anzeigen verkaufsoffener Nächte'!$X:$X,"22:30",'Anzeigen verkaufsoffener Nächte'!$AH:$AH,2026) -> 0 | CS5: =COUNTIFS('Anzeigen verkaufsoffener Nächte'!$X:$X,"22:30",'Anzeigen verkaufsoffener Nächte'!$AH:$AH,2027) -> 0 | CT5: =COUNTIFS('Anzeigen verkaufsoffener Nächte'!$X:$X,"23:00",'Anzeigen verkaufsoffener Nächte'!$AH:$AH,2025) -> 0 | CU5: =COUNTIFS('Anzeigen verkaufsoffener Nächte'!$X:$X,"23:00",'Anzeigen verkaufsoffener Nächte'!$AH:$AH,2026) -> 0 | CV5: =COUNTIFS('Anzeigen verkaufsoffener Nächte'!$X:$X,"23:00",'Anzeigen verkaufsoffener Nächte'!$AH:$AH,2027) -> 0 | CW5: =COUNTIFS('Anzeigen verkaufsoffener Nächte'!$X:$X,"23:30",'Anzeigen verkaufsoffener Nächte'!$AH:$AH,2025) -> 0 | CX5: =COUNTIFS('Anzeigen verkaufsoffener Nächte'!$X:$X,"23:30",'Anzeigen verkaufsoffener Nächte'!$AH:$AH,2026) -> 0 | CY5: =COUNTIFS('Anzeigen verkaufsoffener Nächte'!$X:$X,"23:30",'Anzeigen verkaufsoffener Nächte'!$AH:$AH,2027) -> 0 | CZ5: =COUNTIFS('Anzeigen verkaufsoffener Nächte'!$X:$X,"24:00",'Anzeigen verkaufsoffener Nächte'!$AH:$AH,2025) -> 0 | DA5: =COUNTIFS('Anzeigen verkaufsoffener Nächte'!$X:$X,"24:00",'Anzeigen verkaufsoffener Nächte'!$AH:$AH,2026) -> 0 | DB5: =COUNTIFS('Anzeigen verkaufsoffener Nächte'!$X:$X,"24:00",'Anzeigen verkaufsoffener Nächte'!$AH:$AH,2027) -> 0 | DC5: =SUMIFS('Anzeigen verkaufsoffener Nächte'!$AI:$AI,'Anzeigen verkaufsoffener Nächte'!$AH:$AH,2025)/'Anzeigen verkaufsoffener Nächte'!$AJ$11 -> #DIV/0! | DD5: =SUMIFS('Anzeigen verkaufsoffener Nächte'!$AI:$AI,'Anzeigen verkaufsoffener Nächte'!$AH:$AH,2026)/'Anzeigen verkaufsoffener Nächte'!$AK$11 -> #DIV/0! | DE5: =SUMIFS('Anzeigen verkaufsoffener Nächte'!$AI:$AI,'Anzeigen verkaufsoffener Nächte'!$AH:$AH,2026)/'Anzeigen verkaufsoffener Nächte'!$AL$11 -> #DIV/0! | DF5: =COUNTIFS('Anzeigen verkaufsoffener Nächte'!$AC:$AC,DF2,'Anzeigen verkaufsoffener Nächte'!$AH:$AH,2025) -> 0 | DG5: =COUNTIFS('Anzeigen verkaufsoffener Nächte'!$AC:$AC,DF2,'Anzeigen verkaufsoffener Nächte'!$AH:$AH,2026) -> 0 | DH5: =COUNTIFS('Anzeigen verkaufsoffener Nächte'!$AC:$AC,DF2,'Anzeigen verkaufsoffener Nächte'!$AH:$AH,2027) -> 0 | DI5: =COUNTIFS('Anzeigen verkaufsoffener Nächte'!$AC:$AC,DI2,'Anzeigen verkaufsoffener Nächte'!$AH:$AH,2025) -> 0 | DJ5: =COUNTIFS('Anzeigen verkaufsoffener Nächte'!$AC:$AC,DI2,'Anzeigen verkaufsoffener Nächte'!$AH:$AH,2026) -> 0 | DK5: =COUNTIFS('Anzeigen verkaufsoffener Nächte'!$AC:$AC,DI2,'Anzeigen verkaufsoffener Nächte'!$AH:$AH,2027) -> 0 | DL5: =COUNTIFS('Anzeigen verkaufsoffener Nächte'!$AC:$AC,DL2,'Anzeigen verkaufsoffener Nächte'!$AH:$AH,2025) -> 0 | DM5: =COUNTIFS('Anzeigen verkaufsoffener Nächte'!$AC:$AC,DL2,'Anzeigen verkaufsoffener Nächte'!$AH:$AH,2026) -> 0 | DN5: =COUNTIFS('Anzeigen verkaufsoffener Nächte'!$AC:$AC,DL2,'Anzeigen verkaufsoffener Nächte'!$AH:$AH,2027) -> 0 | DO5: =COUNTIFS('Anzeigen verkaufsoffener Nächte'!$AC:$AC,DO2,'Anzeigen verkaufsoffener Nächte'!$AH:$AH,2025) -> 0 | DP5: =COUNTIFS('Anzeigen verkaufsoffener Nächte'!$AC:$AC,DO2,'Anzeigen verkaufsoffener Nächte'!$AH:$AH,2026) -> 0 | DQ5: =COUNTIFS('Anzeigen verkaufsoffener Nächte'!$AC:$AC,DO2,'Anzeigen verkaufsoffener Nächte'!$AH:$AH,2027) -> 0 | DR5: =COUNTIFS('Anzeigen verkaufsoffener Nächte'!$AC:$AC,DR2,'Anzeigen verkaufsoffener Nächte'!$AH:$AH,2025) -> 0 | DS5: =COUNTIFS('Anzeigen verkaufsoffener Nächte'!$AC:$AC,DR2,'Anzeigen verkaufsoffener Nächte'!$AH:$AH,2026) -> 0 | DT5: =COUNTIFS('Anzeigen verkaufsoffener Nächte'!$AC:$AC,DR2,'Anzeigen verkaufsoffener Nächte'!$AH:$AH,2027) -> 0 | DU5: ='Anzeigen verkaufsoffener Nächte'!D5 -> 0

Sheet Gemeindeverzeichnis
A1: Gemeinde / Markt / Stadt / Verwaltungsgemeinschaft | B1: Regierungsbezirk | C1: Landratsamt / kreisfreie Stadt | D1: Gemeinde / Markt / Stadt / Verwaltungsgemeinschaft | E1: Verwaltungssitz / Behörde | F1: Straße | G1: PLZ | H1: Ort | I1: Amtlicher Regional- schlüssel (ARS) | J1: Amtlicher Gemeinde-schlüssel (AGS) | L1: Suchen | M1: boolean | N1: Filtern | O1: PLZ + ORTE, Stand 2020 | P1: PLZ-GemVerwaltung | Q1: Gemeindename
A2: Stadt Ingolstadt | B2: Oberbayern | C2: Stadt Ingolstadt | D2: Stadt Ingolstadt | E2: Stadt Ingolstadt | F2: Rathausplatz 4 | G2: 85049 | H2: Ingolstadt | I2: 091610000000 | J2: 09161000 | L2: {=SEARCH('Anzeigen verkaufsoffener Nächte'!G2,Gemeindeverzeichnis!D2:D2188)} -> 1 | M2: {=ISNUMBER(L2:L2188)} -> TRUE | N2: {=_xlfn._xlws.FILTER(D2:D2188,M2:M2188)} -> Stadt Ingolstadt | P2: 84503 | Q2: Altötting, St
A3: Landeshauptstadt München | B3: Oberbayern | C3: Landeshauptstadt München | D3: Landeshauptstadt München | E3: Landeshauptstadt München | G3: 80313 | H3: München | I3: 091620000000 | J3: 09162000 | L3: 1 | M3: TRUE | N3: Landeshauptstadt München | P3: 84489 | Q3: Burghausen, St
A4: Stadt Rosenheim | B4: Oberbayern | C4: Stadt Rosenheim | D4: Stadt Rosenheim | E4: Stadt Rosenheim | F4: Postfach 1209 | G4: 83013 | H4: Rosenheim | I4: 091630000000 | J4: 09163000 | L4: 1 | M4: TRUE | N4: Stadt Rosenheim | P4: 84508 | Q4: Burgkirchen a.d.Alz
A5: Stadt Altötting | B5: Oberbayern | C5: Landratsamt Altötting | D5: Stadt Altötting | E5: Stadt Altötting | F5: Kapellplatz 2a | G5: 84503 | H5: Altötting | I5: 091710111111 | J5: 09171111 | L5: 1 | M5: TRUE | N5: Stadt Altötting | P5: 84547 | Q5: Emmerting
A6: Stadt Burghausen | B6: Oberbayern | C6: Landratsamt Altötting | D6: Stadt Burghausen | E6: Stadt Burghausen | F6: Postfach 1240 | G6: 84480 | H6: Burghausen | I6: 091710112112 | J6: 09171112 | L6: 1 | M6: TRUE | N6: Stadt Burghausen | P6: 84567 | Q6: Erlbach
A7: Gemeinde Burgkirchen a.d.Alz | B7: Oberbayern | C7: Landratsamt Altötting | D7: Gemeinde Burgkirchen a.d.Alz | E7: Gemeinde Burgkirchen a.d.Alz | F7: Max-Planck-Platz 5 | G7: 84508 | H7: Burgkirchen a.d.Alz | I7: 091710113113 | J7: 09171113 | L7: 1 | M7: TRUE | N7: Gemeinde Burgkirchen a.d.Alz | P7: 84550 | Q7: Feichten a.d.Alz
A8: Gemeinde Garching a.d.Alz | B8: Oberbayern | C8: Landratsamt Altötting | D8: Gemeinde Garching a.d.Alz | E8: Gemeinde Garching a.d.Alz | F8: Postfach 1160 | G8: 84514 | H8: Garching a.d.Alz | I8: 091710117117 | J8: 09171117 | L8: 1 | M8: TRUE | N8: Gemeinde Garching a.d.Alz | P8: 84518 | Q8: Garching a.d.Alz
A9: Gemeinde Haiming | B9: Oberbayern | C9: Landratsamt Altötting | D9: Gemeinde Haiming | E9: Gemeinde Haiming | F9: Hauptstraße 18 | G9: 84533 | H9: Haiming | I9: 091710118118 | J9: 09171118 | L9: 1 | M9: TRUE | N9: Gemeinde Haiming | P9: 84533 | Q9: Haiming
A10: Stadt Neuötting | B10: Oberbayern | C10: Landratsamt Altötting | D10: Stadt Neuötting | E10: Stadt Neuötting | F10: Postfach 1107 | G10: 84519 | H10: Neuötting | I10: 091710125125 | J10: 09171125 | L10: 1 | M10: TRUE | N10: Stadt Neuötting | P10: 84553 | Q10: Halsbach
A11: Gemeinde Pleiskirchen | B11: Oberbayern | C11: Landratsamt Altötting | D11: Gemeinde Pleiskirchen | E11: Gemeinde Pleiskirchen | F11: Schulstraße 12 | G11: 84568 | H11: Pleiskirchen | I11: 091710127127 | J11: 09171127 | L11: 1 | M11: TRUE | N11: Gemeinde Pleiskirchen | P11: 84556 | Q11: Kastl
A12: Gemeinde Teising | B12: Oberbayern | C12: Landratsamt Altötting | D12: Gemeinde Teising | E12: Gemeinde Teising | F12: Hauptstraße 5 | G12: 84576 | H12: Teising | I12: 091710131131 | J12: 09171131 | L12: 1 | M12: TRUE | N12: Gemeinde Teising | P12: 84558 | Q12: Kirchweidach
A13: Stadt Töging a.Inn | B13: Oberbayern | C13: Landratsamt Altötting | D13: Stadt Töging a.Inn | E13: Stadt Töging a.Inn | F13: Postfach 1161 | G13: 84509 | H13: Töging a.Inn | I13: 091710132132 | J13: 09171132 | L13: 1 | M13: TRUE | N13: Stadt Töging a.Inn | P13: 84533 | Q13: Marktl, M
A14: Markt Tüßling | B14: Oberbayern | C14: Landratsamt Altötting | D14: Markt Tüßling | E14: Markt Tüßling | F14: Marktplatz 2 | G14: 84577 | H14: Tüßling | I14: 091710133133 | J14: 09171133 | L14: 1 | M14: TRUE | N14: Markt Tüßling | P14: 84561 | Q14: Mehring
A15: Gemeinde Winhöring | B15: Oberbayern | C15: Landratsamt Altötting | D15: Gemeinde Winhöring | E15: Gemeinde Winhöring | F15: Postfach 1151 | G15: 84540 | H15: Winhöring | I15: 091710137137 | J15: 09171137 | L15: 1 | M15: TRUE | N15: Gemeinde Winhöring | P15: 84524 | Q15: Neuötting, St
... A169: Gemeinde Fahrenzhausen | B169: Oberbayern | C169: Landratsamt Freising | D169: Gemeinde Fahrenzhausen | E169: Gemeinde Fahrenzhausen | F169: Hauptstraße 21 | G169: 85777 | H169: Fahrenzhausen | I169: 091780123123 | J169: 09178123 | L169: 1 | M169: TRUE | N169: Gemeinde Fahrenzhausen | P169: 85256 | Q169: Vierkirchen
A170: Große Kreisstadt Freising | B170: Oberbayern | C170: Landratsamt Freising | D170: Große Kreisstadt Freising | E170: Große Kreisstadt Freising | G170: 85350 | H170: Freising | I170: 091780124124 | J170: 09178124 | L170: 1 | M170: TRUE | N170: Große Kreisstadt Freising | P170: 85258 | Q170: Weichs
A171: Gemeinde Hallbergmoos | B171: Oberbayern | C171: Landratsamt Freising | D171: Gemeinde Hallbergmoos | E171: Gemeinde Hallbergmoos | F171: Rathausplatz 1 | G171: 85399 | H171: Hallbergmoos | I171: 091780130130 | J171: 09178130 | L171: 1 | M171: TRUE | N171: Gemeinde Hallbergmoos | P171: 82276 | Q171: Adelshofen
A172: Gemeinde Hohenkammer | B172: Oberbayern | C172: Landratsamt Freising | D172: Gemeinde Hohenkammer | E172: Gemeinde Hohenkammer | F172: Petershauser Straße 1 | G172: 85411 | H172: Hohenkammer | I172: 091780133133 | J172: 09178133 | L172: 1 | M172: TRUE | N172: Gemeinde Hohenkammer | P172: 82239 | Q172: Alling
A173: Gemeinde Kirchdorf a.d.Amper | B173: Oberbayern | C173: Landratsamt Freising | D173: Gemeinde Kirchdorf a.d.Amper | E173: Gemeinde Kirchdorf a.d.Amper | F173: Rathausplatz 1 | G173: 85414 | H173: Kirchdorf a. d. Amper | I173: 091780136136 | J173: 09178136 | L173: 1 | M173: TRUE | N173: Gemeinde Kirchdorf a.d.Amper | P173: 82278 | Q173: Althegnenberg
A174: Gemeinde Kranzberg | B174: Oberbayern | C174: Landratsamt Freising | D174: Gemeinde Kranzberg | E174: Gemeinde Kranzberg | F174: Untere Dorfstraße 3 | G174: 85402 | H174: Kranzberg | I174: 091780137137 | J174: 09178137 | L174: 1 | M174: TRUE | N174: Gemeinde Kranzberg | P174: 82281 | Q174: Egenhofen
A175: Gemeinde Langenbach | B175: Oberbayern | C175: Landratsamt Freising | D175: Gemeinde Langenbach | E175: Gemeinde Langenbach | F175: Bahnhofstraße 6 | G175: 85416 | H175: Langenbach | I175: 091780138138 | J175: 09178138 | L175: 1 | M175: TRUE | N175: Gemeinde Langenbach | P175: 82223 | Q175: Eichenau
A176: Gemeinde Marzling | B176: Oberbayern | C176: Landratsamt Freising | D176: Gemeinde Marzling | E176: Gemeinde Marzling | F176: Freisinger Straße 11 | G176: 85417 | H176: Marzling | I176: 091780140140 | J176: 09178140 | L176: 1 | M176: TRUE | N176: Gemeinde Marzling | P176: 82275 | Q176: Emmering
A177: Stadt Moosburg a.d.Isar | B177: Oberbayern | C177: Landratsamt Freising | D177: Stadt Moosburg a.d.Isar | E177: Stadt Moosburg a.d.Isar | F177: Stadtplatz 13 | G177: 85368 | H177: Moosburg a.d.Isar | I177: 091780143143 | J177: 09178143 | L177: 1 | M177: TRUE | N177: Stadt Moosburg a.d.Isar | P177: 82256 | Q177: Fürstenfeldbruck, GKSt
A178: Markt Nandlstadt | B178: Oberbayern | C178: Landratsamt Freising | D178: Markt Nandlstadt | E178: Markt Nandlstadt | F178: Rathausplatz 1 | G178: 85405 | H178: Nandlstadt | I178: 091780144144 | J178: 09178144 | L178: 1 | M178: TRUE | N178: Markt Nandlstadt | P178: 82284 | Q178: Grafrath
A179: Gemeinde Neufahrn b.Freising | B179: Oberbayern | C179: Landratsamt Freising | D179: Gemeinde Neufahrn b.Freising | E179: Gemeinde Neufahrn b.Freising | F179: Postfach 1380 | G179: 85371 | H179: Neufahrn b.Freising | I179: 091780145145 | J179: 09178145 | L179: 1 | M179: TRUE | N179: Gemeinde Neufahrn b.Freising | P179: 82194 | Q179: Gröbenzell
A180: Gemeinde Allershausen | B180: Oberbayern | C180: Landratsamt Freising | D180: Gemeinde Allershausen | E180: Verwaltungsgemeinschaft Allershausen | F180: Postfach 1143 | G180: 85387 | H180: Allershausen | I180: 091785127113 | J180: 09178113 | L180: 1 | M180: TRUE | N180: Gemeinde Allershausen | P180: 82285 | Q180: Hattenhofen
A181: Gemeinde Paunzhausen | B181: Oberbayern | C181: Landratsamt Freising | D181: Gemeinde Paunzhausen | E181: Verwaltungsgemeinschaft Allershausen | F181: Postfach 1143 | G181: 85387 | H181: Allershausen | I181: 091785127150 | J181: 09178150 | L181: 1 | M181: TRUE | N181: Gemeinde Paunzhausen | P181: 82287 | Q181: Jesenwang
A182: Gemeinde Gammelsdorf | B182: Oberbayern | C182: Landratsamt Freising | D182: Gemeinde Gammelsdorf | E182: Verwaltungsgemeinschaft Mauern | F182: Schloßplatz 2 | G182: 85419 | H182: Mauern | I182: 091785129125 | J182: 09178125 | L182: 1 | M182: TRUE | N182: Gemeinde Gammelsdorf | P182: 82288 | Q182: Kottgeisering
... A498: Stadt Schongau | B498: Oberbayern | C498: Landratsamt Weilheim-Schongau | D498: Stadt Schongau | E498: Stadt Schongau | F498: Postfach 1348 | G498: 86953 | H498: Schongau | I498: 091900148148 | J498: 09190148 | L498: 1 | M498: TRUE | N498: Stadt Schongau | P498: 82402 | Q498: Seeshaupt
A499: Stadt Weilheim i.OB | B499: Oberbayern | C499: Landratsamt Weilheim-Schongau | D499: Stadt Weilheim i.OB | E499: Stadt Weilheim i.OB | G499: 82360 | H499: Weilheim i.OB | I499: 091900157157 | J499: 09190157 | L499: 1 | M499: TRUE | N499: Stadt Weilheim i.OB | P499: 82404 | Q499: Sindelsdorf
A500: Gemeinde Wessobrunn | B500: Oberbayern | C500: Landratsamt Weilheim-Schongau | D500: Gemeinde Wessobrunn | E500: Gemeinde Wessobrunn | F500: Zöpfstraße 1 | G500: 82405 | H500: Wessobrunn | I500: 091900158158 | J500: 09190158 | L500: 1 | M500: TRUE | N500: Gemeinde Wessobrunn | P500: 86989 | Q500: Steingaden
A501: Gemeinde Wielenbach | B501: Oberbayern | C501: Landratsamt Weilheim-Schongau | D501: Gemeinde Wielenbach | E501: Gemeinde Wielenbach | F501: Peter-Kaufinger-Straße 10 | G501: 82407 | H501: Wielenbach | I501: 091900159159 | J501: 09190159 | L501: 1 | M501: TRUE | N501: Gemeinde Wielenbach | P501: 82362 | Q501: Weilheim i.OB, St
A502: Gemeinde Altenstadt | B502: Oberbayern | C502: Landratsamt Weilheim-Schongau | D502: Gemeinde Altenstadt | E502: Verwaltungsgemeinschaft Altenstadt | F502: Marienplatz 2 | G502: 86972 | H502: Altenstadt | I502: 091905174111 | J502: 09190111 | L502: 1 | M502: TRUE | N502: Gemeinde Altenstadt | P502: 82405 | Q502: Wessobrunn
A503: Gemeinde Hohenfurch | B503: Oberbayern | C503: Landratsamt Weilheim-Schongau | D503: Gemeinde Hohenfurch | E503: Verwaltungsgemeinschaft Altenstadt | F503: Marienplatz 2 | G503: 86972 | H503: Altenstadt | I503: 091905174129 | J503: 09190129 | L503: 1 | M503: TRUE | N503: Gemeinde Hohenfurch | P503: 82407 | Q503: Wielenbach
A504: Gemeinde Ingenried | B504: Oberbayern | C504: Landratsamt Weilheim-Schongau | D504: Gemeinde Ingenried | E504: Verwaltungsgemeinschaft Altenstadt | F504: Marienplatz 2 | G504: 86972 | H504: Altenstadt | I504: 091905174133 | J504: 09190133 | L504: 1 | M504: TRUE | N504: Gemeinde Ingenried | P504: 82409 | Q504: Wildsteig
A505: Gemeinde Schwabbruck | B505: Oberbayern | C505: Landratsamt Weilheim-Schongau | D505: Gemeinde Schwabbruck | E505: Verwaltungsgemeinschaft Altenstadt | F505: Marienplatz 2 | G505: 86972 | H505: Altenstadt | I505: 091905174149 | J505: 09190149 | L505: 1 | M505: TRUE | N505: Gemeinde Schwabbruck | P505: 94527 | Q505: Aholming
A506: Gemeinde Schwabsoien | B506: Oberbayern | C506: Landratsamt Weilheim-Schongau | D506: Gemeinde Schwabsoien | E506: Verwaltungsgemeinschaft Altenstadt | F506: Marienplatz 2 | G506: 86972 | H506: Altenstadt | I506: 091905174151 | J506: 09190151 | L506: 1 | M506: TRUE | N506: Gemeinde Schwabsoien | P506: 94530 | Q506: Auerbach
A507: Gemeinde Bernbeuren | B507: Oberbayern | C507: Landratsamt Weilheim-Schongau | D507: Gemeinde Bernbeuren | E507: Verwaltungsgemeinschaft Bernbeuren | F507: Marktplatz 4 | G507: 86975 | H507: Bernbeuren | I507: 091905175114 | J507: 09190114 | L507: 1 | M507: TRUE | N507: Gemeinde Bernbeuren | P507: 94532 | Q507: Außernzell
A508: Gemeinde Burggen | B508: Oberbayern | C508: Landratsamt Weilheim-Schongau | D508: Gemeinde Burggen | E508: Verwaltungsgemeinschaft Bernbeuren | F508: Marktplatz 4 | G508: 86975 | H508: Bernbeuren | I508: 091905175118 | J508: 09190118 | L508: 1 | M508: TRUE | N508: Gemeinde Burggen | P508: 94505 | Q508: Bernried
A509: Gemeinde Antdorf | B509: Oberbayern | C509: Landratsamt Weilheim-Schongau | D509: Gemeinde Antdorf | E509: Verwaltungsgemeinschaft Habach | F509: Hofmark 1 | G509: 82392 | H509: Habach | I509: 091905176113 | J509: 09190113 | L509: 1 | M509: TRUE | N509: Gemeinde Antdorf | P509: 94533 | Q509: Buchhofen
A510: Gemeinde Habach | B510: Oberbayern | C510: Landratsamt Weilheim-Schongau | D510: Gemeinde Habach | E510: Verwaltungsgemeinschaft Habach | F510: Hofmark 1 | G510: 82392 | H510: Habach | I510: 091905176126 | J510: 09190126 | L510: 1 | M510: TRUE | N510: Gemeinde Habach | P510: 94469 | Q510: Deggendorf, GKSt
A511: Gemeinde Obersöchering | B511: Oberbayern | C511: Landratsamt Weilheim-Schongau | D511: Gemeinde Obersöchering | E511: Verwaltungsgemeinschaft Habach | F511: Hofmark 1 | G511: 82392 | H511: Habach | I511: 091905176136 | J511: 09190136 | L511: 1 | M511: TRUE | N511: Gemeinde Obersöchering | P511: 94539 | Q511: Grafling
... A1118: Markt Egloffstein | B1118: Oberfranken | C1118: Landratsamt Forchheim | D1118: Markt Egloffstein | E1118: Markt Egloffstein | F1118: Badstraße 166 | G1118: 91349 | H1118: Egloffstein | I1118: 094740124124 | J1118: 09474124 | L1118: 1 | M1118: TRUE | N1118: Markt Egloffstein | P1118: 95192 | Q1118: Lichtenberg, St
A1119: Große Kreisstadt Forchheim | B1119: Oberfranken | C1119: Landratsamt Forchheim | D1119: Große Kreisstadt Forchheim | E1119: Große Kreisstadt Forchheim | G1119: 91299 | H1119: Forchheim | I1119: 094740126126 | J1119: 09474126 | L1119: 1 | M1119: TRUE | N1119: Große Kreisstadt Forchheim | P1119: 95213 | Q1119: Münchberg, St
A1120: Markt Gößweinstein | B1120: Oberfranken | C1120: Landratsamt Forchheim | D1120: Markt Gößweinstein | E1120: Markt Gößweinstein | F1120: Burgstraße 8 | G1120: 91327 | H1120: Gößweinstein | I1120: 094740129129 | J1120: 09474129 | L1120: 1 | M1120: TRUE | N1120: Markt Gößweinstein | P1120: 95119 | Q1120: Naila, St
A1121: Gemeinde Hallerndorf | B1121: Oberfranken | C1121: Landratsamt Forchheim | D1121: Gemeinde Hallerndorf | E1121: Gemeinde Hallerndorf | F1121: Von-Seckendorf-Straße 10 | G1121: 91352 | H1121: Hallerndorf | I1121: 094740133133 | J1121: 09474133 | L1121: 1 | M1121: TRUE | N1121: Gemeinde Hallerndorf | P1121: 95145 | Q1121: Oberkotzau, M
A1122: Gemeinde Hausen | B1122: Oberfranken | C1122: Landratsamt Forchheim | D1122: Gemeinde Hausen | E1122: Gemeinde Hausen | F1122: Heroldsbacher Straße 51 | G1122: 91353 | H1122: Hausen | I1122: 094740134134 | J1122: 09474134 | L1122: 1 | M1122: TRUE | N1122: Gemeinde Hausen | P1122: 95194 | Q1122: Regnitzlosau
A1123: Gemeinde Heroldsbach | B1123: Oberfranken | C1123: Landratsamt Forchheim | D1123: Gemeinde Heroldsbach | E1123: Gemeinde Heroldsbach | F1123: Hauptstraße 9 | G1123: 91336 | H1123: Heroldsbach | I1123: 094740135135 | J1123: 09474135 | L1123: 1 | M1123: TRUE | N1123: Gemeinde Heroldsbach | P1123: 95111 | Q1123: Rehau, St
A1124: Markt Igensdorf | B1124: Oberfranken | C1124: Landratsamt Forchheim | D1124: Markt Igensdorf | E1124: Markt Igensdorf | F1124: Bürgermeister-Zeiß-Platz 1 | G1124: 91338 | H1124: Igensdorf | I1124: 094740140140 | J1124: 09474140 | L1124: 1 | M1124: TRUE | N1124: Markt Igensdorf | P1124: 95197 | Q1124: Schauenstein, St
A1125: Gemeinde Langensendelbach | B1125: Oberfranken | C1125: Landratsamt Forchheim | D1125: Gemeinde Langensendelbach | E1125: Gemeinde Langensendelbach | F1125: Kirchweg 1 | G1125: 91094 | H1125: Langensendelbach | I1125: 094740146146 | J1125: 09474146 | L1125: 1 | M1125: TRUE | N1125: Gemeinde Langensendelbach | P1125: 95120 | Q1125: Schwarzenbach a.d.Saale, St
A1126: Markt Neunkirchen a.Brand | B1126: Oberfranken | C1126: Landratsamt Forchheim | D1126: Markt Neunkirchen a.Brand | E1126: Markt Neunkirchen a.Brand | F1126: Klosterhof 2-4 | G1126: 91077 | H1126: Neunkirchen a.Brand | I1126: 094740154154 | J1126: 09474154 | L1126: 1 | M1126: TRUE | N1126: Markt Neunkirchen a.Brand | P1126: 95131 | Q1126: Schwarzenbach a.Wald, St
A1127: Gemeinde Obertrubach | B1127: Oberfranken | C1127: Landratsamt Forchheim | D1127: Gemeinde Obertrubach | E1127: Gemeinde Obertrubach | F1127: Teichstraße 5 | G1127: 91286 | H1127: Obertrubach | I1127: 094740156156 | J1127: 09474156 | L1127: 1 | M1127: TRUE | N1127: Gemeinde Obertrubach | P1127: 95152 | Q1127: Selbitz, St
A1128: Markt Pretzfeld | B1128: Oberfranken | C1128: Landratsamt Forchheim | D1128: Markt Pretzfeld | E1128: Markt Pretzfeld | F1128: Hauptstraße 3 | G1128: 91362 | H1128: Pretzfeld | I1128: 094740161161 | J1128: 09474161 | L1128: 1 | M1128: TRUE | N1128: Markt Pretzfeld | P1128: 95234 | Q1128: Sparneck, M
A1129: Markt Wiesenttal | B1129: Oberfranken | C1129: Landratsamt Forchheim | D1129: Markt Wiesenttal | E1129: Markt Wiesenttal | F1129: Forchheimer Straße 8 | G1129: 91346 | H1129: Wiesenttal | I1129: 094740176176 | J1129: 09474176 | L1129: 1 | M1129: TRUE | N1129: Markt Wiesenttal | P1129: 95236 | Q1129: Stammbach, M
A1130: Gemeinde Ebermannstadt, St | B1130: Oberfranken | C1130: Landratsamt Forchheim | D1130: Gemeinde Ebermannstadt, St | E1130: Verwaltungsgemeinschaft Ebermannstadt | F1130: Franz-Dörrzapf-Straße 10 | G1130: 91320 | H1130: Ebermannstadt | I1130: 094745420121 | J1130: 09474121 | L1130: 1 | M1130: TRUE | N1130: Gemeinde Ebermannstadt, St | P1130: 95183 | Q1130: Töpen
A1131: Gemeinde Unterleinleiter | B1131: Oberfranken | C1131: Landratsamt Forchheim | D1131: Gemeinde Unterleinleiter | E1131: Verwaltungsgemeinschaft Ebermannstadt | F1131: Franz-Dörrzapf-Straße 10 | G1131: 91320 | H1131: Ebermannstadt | I1131: 094745420168 | J1131: 09474168 | L1131: 1 | M1131: TRUE | N1131: Gemeinde Unterleinleiter | P1131: 95183 | Q1131: Trogen
... A1172: Gemeinde Weißdorf | B1172: Oberfranken | C1172: Landratsamt Hof | D1172: Gemeinde Weißdorf | E1172: Verwaltungsgemeinschaft Sparneck | F1172: Marktplatz 4 | G1172: 95234 | H1172: Sparneck | I1172: 094755432184 | J1172: 09475184 | L1172: 1 | M1172: TRUE | N1172: Gemeinde Weißdorf | P1172: 95499 | Q1172: Harsdorf
A1173: Gemeinde Weißdorf | B1173: Oberfranken | C1173: Landratsamt Hof | D1173: Gemeinde Weißdorf | E1173: Gemeinde Weißdorf | G1173: 95234 | H1173: Sparneck | I1173: 094755432184 | J1173: 09475184 | L1173: 1 | M1173: TRUE | N1173: Gemeinde Weißdorf | P1173: 95502 | Q1173: Himmelkron
A1174: Stadt Kronach | B1174: Oberfranken | C1174: Landratsamt Kronach | D1174: Stadt Kronach | E1174: Stadt Kronach | F1174: Postfach 1761 | G1174: 96307 | H1174: Kronach | I1174: 094760145145 | J1174: 09476145 | L1174: 1 | M1174: TRUE | N1174: Stadt Kronach | P1174: 95359 | Q1174: Kasendorf, M
A1175: Markt Küps | B1175: Oberfranken | C1175: Landratsamt Kronach | D1175: Markt Küps | E1175: Markt Küps | F1175: Postfach 1105 | G1175: 96324 | H1175: Küps | I1175: 094760146146 | J1175: 09476146 | L1175: 1 | M1175: TRUE | N1175: Markt Küps | P1175: 95361 | Q1175: Ködnitz
A1176: Stadt Ludwigsstadt | B1176: Oberfranken | C1176: Landratsamt Kronach | D1176: Stadt Ludwigsstadt | E1176: Stadt Ludwigsstadt | F1176: Postfach 5 | G1176: 96333 | H1176: Ludwigsstadt | I1176: 094760152152 | J1176: 09476152 | L1176: 1 | M1176: TRUE | N1176: Stadt Ludwigsstadt | P1176: 95311 | Q1176: Kulmbach, GKSt
A1177: Markt Nordhalben | B1177: Oberfranken | C1177: Landratsamt Kronach | D1177: Markt Nordhalben | E1177: Markt Nordhalben | F1177: Postfach 62 | G1177: 96365 | H1177: Nordhalben | I1177: 094760159159 | J1177: 09476159 | L1177: 1 | M1177: TRUE | N1177: Markt Nordhalben | P1177: 95362 | Q1177: Kupferberg, St
A1178: Markt Pressig | B1178: Oberfranken | C1178: Landratsamt Kronach | D1178: Markt Pressig | E1178: Markt Pressig | F1178: Postfach 1146 | G1178: 96329 | H1178: Pressig | I1178: 094760164164 | J1178: 09476164 | L1178: 1 | M1178: TRUE | N1178: Markt Pressig | P1178: 95364 | Q1178: Ludwigschorgast, M
A1179: Gemeinde Steinbach a.Wald | B1179: Oberfranken | C1179: Landratsamt Kronach | D1179: Gemeinde Steinbach a.Wald | E1179: Gemeinde Steinbach a.Wald | F1179: Ludwigsstädter Straße 2 | G1179: 96361 | H1179: Steinbach a.Wald | I1179: 094760175175 | J1179: 09476175 | L1179: 1 | M1179: TRUE | N1179: Gemeinde Steinbach a.Wald | P1179: 95336 | Q1179: Mainleus, M
A1180: Markt Steinwiesen | B1180: Oberfranken | C1180: Landratsamt Kronach | D1180: Markt Steinwiesen | E1180: Markt Steinwiesen | F1180: Postfach 30 | G1180: 96347 | H1180: Steinwiesen | I1180: 094760177177 | J1180: 09476177 | L1180: 1 | M1180: TRUE | N1180: Markt Steinwiesen | P1180: 95352 | Q1180: Marktleugast, M
A1181: Gemeinde Stockheim | B1181: Oberfranken | C1181: Landratsamt Kronach | D1181: Gemeinde Stockheim | E1181: Gemeinde Stockheim | F1181: Postfach 1151 | G1181: 96338 | H1181: Stockheim | I1181: 094760178178 | J1181: 09476178 | L1181: 1 | M1181: TRUE | N1181: Gemeinde Stockheim | P1181: 95509 | Q1181: Marktschorgast, M
A1182: Markt Tettau | B1182: Oberfranken | C1182: Landratsamt Kronach | D1182: Markt Tettau | E1182: Markt Tettau | F1182: Postfach 25 | G1182: 96353 | H1182: Tettau | I1182: 094760179179 | J1182: 09476179 | L1182: 1 | M1182: TRUE | N1182: Markt Tettau | P1182: 95512 | Q1182: Neudrossenfeld
A1183: Markt Marktrodach | B1183: Oberfranken | C1183: Landratsamt Kronach | D1183: Markt Marktrodach | E1183: Markt Marktrodach | F1183: Kirchplatz 3 | G1183: 96364 | H1183: Marktrodach | I1183: 094760183183 | J1183: 09476183 | L1183: 1 | M1183: TRUE | N1183: Markt Marktrodach | P1183: 95339 | Q1183: Neuenmarkt
A1184: Stadt Wallenfels | B1184: Oberfranken | C1184: Landratsamt Kronach | D1184: Stadt Wallenfels | E1184: Stadt Wallenfels | F1184: Postfach 1180 | G1184: 96343 | H1184: Wallenfels | I1184: 094760184184 | J1184: 09476184 | L1184: 1 | M1184: TRUE | N1184: Stadt Wallenfels | P1184: 95353 | Q1184: Presseck, M
A1185: Gemeinde Weißenbrunn | B1185: Oberfranken | C1185: Landratsamt Kronach | D1185: Gemeinde Weißenbrunn | E1185: Gemeinde Weißenbrunn | F1185: Bergstraße 21 | G1185: 96369 | H1185: Weißenbrunn | I1185: 094760185185 | J1185: 09476185 | L1185: 1 | M1185: TRUE | N1185: Gemeinde Weißenbrunn | P1185: 95365 | Q1185: Rugendorf
... A1248: Stadt Erlangen | B1248: Mittelfranken | C1248: Stadt Erlangen | D1248: Stadt Erlangen | E1248: Stadt Erlangen | F1248: Rathausplatz 1 | G1248: 91051 | H1248: Erlangen | I1248: 095620000000 | J1248: 09562000 | L1248: 1 | M1248: TRUE | N1248: Stadt Erlangen | P1248: 91628 | Q1248: Steinsfeld
A1249: Stadt Fürth | B1249: Mittelfranken | C1249: Stadt Fürth | D1249: Stadt Fürth | E1249: Stadt Fürth | G1249: 90744 | H1249: Fürth | I1249: 095630000000 | J1249: 09563000 | L1249: 1 | M1249: TRUE | N1249: Stadt Fürth | P1249: 91743 | Q1249: Unterschwaningen
A1250: Stadt Nürnberg | B1250: Mittelfranken | C1250: Stadt Nürnberg | D1250: Stadt Nürnberg | E1250: Stadt Nürnberg | F1250: Fünferplatz 2 | G1250: 90403 | H1250: Nürnberg | I1250: 095640000000 | J1250: 09564000 | L1250: 1 | M1250: TRUE | N1250: Stadt Nürnberg | P1250: 91717 | Q1250: Wassertrüdingen, St
A1251: Stadt Schwabach | B1251: Mittelfranken | C1251: Stadt Schwabach | D1251: Stadt Schwabach | E1251: Stadt Schwabach | F1251: Postfach 2120 | G1251: 91124 | H1251: Schwabach | I1251: 095650000000 | J1251: 09565000 | L1251: 1 | M1251: TRUE | N1251: Stadt Schwabach | P1251: 91746 | Q1251: Weidenbach, M
A1252: Markt Arberg | B1252: Mittelfranken | C1252: Landratsamt Ansbach | D1252: Markt Arberg | E1252: Markt Arberg | F1252: Marktplatz 13 | G1252: 91722 | H1252: Arberg | I1252: 095710113113 | J1252: 09571113 | L1252: 1 | M1252: TRUE | N1252: Markt Arberg | P1252: 91629 | Q1252: Weihenzell
A1253: Gemeinde Aurach | B1253: Mittelfranken | C1253: Landratsamt Ansbach | D1253: Gemeinde Aurach | E1253: Gemeinde Aurach | F1253: Im Mooshof 4 | G1253: 91589 | H1253: Aurach | I1253: 095710114114 | J1253: 09571114 | L1253: 1 | M1253: TRUE | N1253: Gemeinde Aurach | P1253: 91744 | Q1253: Weiltingen, M
A1254: Markt Bechhofen | B1254: Mittelfranken | C1254: Landratsamt Ansbach | D1254: Markt Bechhofen | E1254: Markt Bechhofen | F1254: Postfach 1108 | G1254: 91568 | H1254: Bechhofen | I1254: 095710115115 | J1254: 09571115 | L1254: 1 | M1254: TRUE | N1254: Markt Bechhofen | P1254: 91631 | Q1254: Wettringen
A1255: Gemeinde Burgoberbach | B1255: Mittelfranken | C1255: Landratsamt Ansbach | D1255: Gemeinde Burgoberbach | E1255: Gemeinde Burgoberbach | F1255: Ansbacher Straße 24 | G1255: 91595 | H1255: Burgoberbach | I1255: 095710127127 | J1255: 09571127 | L1255: 1 | M1255: TRUE | N1255: Gemeinde Burgoberbach | P1255: 91632 | Q1255: Wieseth
A1256: Markt Colmberg | B1256: Mittelfranken | C1256: Landratsamt Ansbach | D1256: Markt Colmberg | E1256: Markt Colmberg | F1256: Am Markt 1 | G1256: 91598 | H1256: Colmberg | I1256: 095710130130 | J1256: 09571130 | L1256: 1 | M1256: TRUE | N1256: Markt Colmberg | P1256: 91634 | Q1256: Wilburgstetten
A1257: Markt Dietenhofen | B1257: Mittelfranken | C1257: Landratsamt Ansbach | D1257: Markt Dietenhofen | E1257: Markt Dietenhofen | F1257: Postfach 8 | G1257: 90597 | H1257: Dietenhofen | I1257: 095710135135 | J1257: 09571135 | L1257: 1 | M1257: TRUE | N1257: Markt Dietenhofen | P1257: 91635 | Q1257: Windelsbach
A1258: Große Kreisstadt Dinkelsbühl | B1258: Mittelfranken | C1258: Landratsamt Ansbach | D1258: Große Kreisstadt Dinkelsbühl | E1258: Große Kreisstadt Dinkelsbühl | F1258: Postfach 350 | G1258: 91544 | H1258: Dinkelsbühl | I1258: 095710136136 | J1258: 09571136 | L1258: 1 | M1258: TRUE | N1258: Große Kreisstadt Dinkelsbühl | P1258: 91575 | Q1258: Windsbach, St
A1259: Markt Dürrwangen | B1259: Mittelfranken | C1259: Landratsamt Ansbach | D1259: Markt Dürrwangen | E1259: Markt Dürrwangen | F1259: Sulzacher Straße 14 | G1259: 91602 | H1259: Dürrwangen | I1259: 095710139139 | J1259: 09571139 | L1259: 1 | M1259: TRUE | N1259: Markt Dürrwangen | P1259: 91749 | Q1259: Wittelshofen
A1260: Stadt Feuchtwangen | B1260: Mittelfranken | C1260: Landratsamt Ansbach | D1260: Stadt Feuchtwangen | E1260: Stadt Feuchtwangen | F1260: Postfach 1257 | G1260: 91552 | H1260: Feuchtwangen | I1260: 095710145145 | J1260: 09571145 | L1260: 1 | M1260: TRUE | N1260: Stadt Feuchtwangen | P1260: 91637 | Q1260: Wörnitz
A1261: Markt Flachslanden | B1261: Mittelfranken | C1261: Landratsamt Ansbach | D1261: Markt Flachslanden | E1261: Markt Flachslanden | F1261: Schulstraße 2 | G1261: 91604 | H1261: Flachslanden | I1261: 095710146146 | J1261: 09571146 | L1261: 1 | M1261: TRUE | N1261: Markt Flachslanden | P1261: 91639 | Q1261: Wolframs-Eschenbach, St
... A1469: Stadt Aschaffenburg | B1469: Unterfranken | C1469: Stadt Aschaffenburg | D1469: Stadt Aschaffenburg | E1469: Stadt Aschaffenburg | F1469: Postfach 100163 | G1469: 63701 | H1469: Aschaffenburg | I1469: 096610000000 | J1469: 09661000 | L1469: 1 | M1469: TRUE | N1469: Stadt Aschaffenburg | P1469: 97711 | Q1469: Thundorf i.UFr.
A1470: Stadt Schweinfurt | B1470: Unterfranken | C1470: Stadt Schweinfurt | D1470: Stadt Schweinfurt | E1470: Stadt Schweinfurt | G1470: 97420 | H1470: Schweinfurt | I1470: 096620000000 | J1470: 09662000 | L1470: 1 | M1470: TRUE | N1470: Stadt Schweinfurt | P1470: 97797 | Q1470: Wartmannsroth
A1471: Stadt Würzburg | B1471: Unterfranken | C1471: Stadt Würzburg | D1471: Stadt Würzburg | E1471: Stadt Würzburg | F1471: Rückermainstraße 2 | G1471: 97070 | H1471: Würzburg | I1471: 096630000000 | J1471: 09663000 | L1471: 1 | M1471: TRUE | N1471: Stadt Würzburg | P1471: 97772 | Q1471: Wildflecken, M
A1472: Stadt Alzenau | B1472: Unterfranken | C1472: Landratsamt Aschaffenburg | D1472: Stadt Alzenau | E1472: Stadt Alzenau | F1472: Hanauer Straße 1 | G1472: 63755 | H1472: Alzenau | I1472: 096710111111 | J1472: 09671111 | L1472: 1 | M1472: TRUE | N1472: Stadt Alzenau | P1472: 97799 | Q1472: Zeitlofs, M
A1473: Gemeinde Bessenbach | B1473: Unterfranken | C1473: Landratsamt Aschaffenburg | D1473: Gemeinde Bessenbach | E1473: Gemeinde Bessenbach | F1473: Ludwig-Straub-Straße 2 | G1473: 63856 | H1473: Bessenbach | I1473: 096710112112 | J1473: 09671112 | L1473: 1 | M1473: TRUE | N1473: Gemeinde Bessenbach | P1473: 97633 | Q1473: Aubstadt
A1474: Gemeinde Karlstein a.Main | B1474: Unterfranken | C1474: Landratsamt Aschaffenburg | D1474: Gemeinde Karlstein a.Main | E1474: Gemeinde Karlstein a.Main | F1474: Am Oberborn 1 | G1474: 63791 | H1474: Karlstein a.Main | I1474: 096710114114 | J1474: 09671114 | L1474: 1 | M1474: TRUE | N1474: Gemeinde Karlstein a.Main | P1474: 97616 | Q1474: Bad Neustadt a.d.Saale, St
A1475: Gemeinde Geiselbach | B1475: Unterfranken | C1475: Landratsamt Aschaffenburg | D1475: Gemeinde Geiselbach | E1475: Gemeinde Geiselbach | F1475: Kirchstraße 6 | G1475: 63826 | H1475: Geiselbach | I1475: 096710119119 | J1475: 09671119 | L1475: 1 | M1475: TRUE | N1475: Gemeinde Geiselbach | P1475: 97654 | Q1475: Bastheim
A1476: Gemeinde Glattbach | B1476: Unterfranken | C1476: Landratsamt Aschaffenburg | D1476: Gemeinde Glattbach | E1476: Gemeinde Glattbach | F1476: Schulstraße 17 | G1476: 63864 | H1476: Glattbach | I1476: 096710120120 | J1476: 09671120 | L1476: 1 | M1476: TRUE | N1476: Gemeinde Glattbach | P1476: 97653 | Q1476: Bischofsheim i.d.Rhön, St
A1477: Markt Goldbach | B1477: Unterfranken | C1477: Landratsamt Aschaffenburg | D1477: Markt Goldbach | E1477: Markt Goldbach | F1477: Postfach 1260 | G1477: 63770 | H1477: Goldbach | I1477: 096710121121 | J1477: 09671121 | L1477: 1 | M1477: TRUE | N1477: Markt Goldbach | P1477: 97650 | Q1477: Fladungen, St
A1478: Markt Großostheim | B1478: Unterfranken | C1478: Landratsamt Aschaffenburg | D1478: Markt Großostheim | E1478: Markt Großostheim | F1478: Postfach 1280 | G1478: 63757 | H1478: Großostheim | I1478: 096710122122 | J1478: 09671122 | L1478: 1 | M1478: TRUE | N1478: Markt Großostheim | P1478: 97633 | Q1478: Großbardorf
A1479: Gemeinde Haibach | B1479: Unterfranken | C1479: Landratsamt Aschaffenburg | D1479: Gemeinde Haibach | E1479: Gemeinde Haibach | F1479: Postfach 1165 | G1479: 63802 | H1479: Haibach | I1479: 096710124124 | J1479: 09671124 | L1479: 1 | M1479: TRUE | N1479: Gemeinde Haibach | P1479: 97633 | Q1479: Großeibstadt
A1480: Markt Hösbach | B1480: Unterfranken | C1480: Landratsamt Aschaffenburg | D1480: Markt Hösbach | E1480: Markt Hösbach | F1480: Postfach 7 | G1480: 63763 | H1480: Hösbach | I1480: 096710130130 | J1480: 09671130 | L1480: 1 | M1480: TRUE | N1480: Markt Hösbach | P1480: 97647 | Q1480: Hausen
A1481: Gemeinde Johannesberg | B1481: Unterfranken | C1481: Landratsamt Aschaffenburg | D1481: Gemeinde Johannesberg | E1481: Gemeinde Johannesberg | F1481: Oberafferbacher Straße 12 | G1481: 63867 | H1481: Johannesberg | I1481: 096710133133 | J1481: 09671133 | L1481: 1 | M1481: TRUE | N1481: Gemeinde Johannesberg | P1481: 97640 | Q1481: Hendungen
A1482: Gemeinde Kahl a.Main | B1482: Unterfranken | C1482: Landratsamt Aschaffenburg | D1482: Gemeinde Kahl a.Main | E1482: Gemeinde Kahl a.Main | F1482: Postfach 50 | G1482: 63792 | H1482: Kahl a.Main | I1482: 096710134134 | J1482: 09671134 | L1482: 1 | M1482: TRUE | N1482: Gemeinde Kahl a.Main | P1482: 97633 | Q1482: Herbstadt
... A1562: Gemeinde Burglauer | B1562: Unterfranken | C1562: Landratsamt Rhön-Grabfeld | D1562: Gemeinde Burglauer | E1562: Gemeinde Burglauer | F1562: Kirchstraße 1 | G1562: 97724 | H1562: Burglauer | I1562: 096735635186 | J1562: 09673186 | L1562: 1 | M1562: TRUE | N1562: Gemeinde Burglauer | P1562: 63924 | Q1562: Rüdenau
...
